BEGIN:VCALENDAR
VERSION:2.0
PRODID:-//Children&#039;s Cabinet - ECPv6.15.17//NONSGML v1.0//EN
CALSCALE:GREGORIAN
METHOD:PUBLISH
X-ORIGINAL-URL:https://www.childrenscabinet.org
X-WR-CALDESC:Events for Children&#039;s Cabinet
REFRESH-INTERVAL;VALUE=DURATION:PT1H
X-Robots-Tag:noindex
X-PUBLISHED-TTL:PT1H
BEGIN:VTIMEZONE
TZID:America/Los_Angeles
BEGIN:DAYLIGHT
TZOFFSETFROM:-0800
TZOFFSETTO:-0700
TZNAME:PDT
DTSTART:20220313T100000
END:DAYLIGHT
BEGIN:STANDARD
TZOFFSETFROM:-0700
TZOFFSETTO:-0800
TZNAME:PST
DTSTART:20221106T090000
END:STANDARD
BEGIN:DAYLIGHT
TZOFFSETFROM:-0800
TZOFFSETTO:-0700
TZNAME:PDT
DTSTART:20230312T100000
END:DAYLIGHT
BEGIN:STANDARD
TZOFFSETFROM:-0700
TZOFFSETTO:-0800
TZNAME:PST
DTSTART:20231105T090000
END:STANDARD
BEGIN:DAYLIGHT
TZOFFSETFROM:-0800
TZOFFSETTO:-0700
TZNAME:PDT
DTSTART:20240310T100000
END:DAYLIGHT
BEGIN:STANDARD
TZOFFSETFROM:-0700
TZOFFSETTO:-0800
TZNAME:PST
DTSTART:20241103T090000
END:STANDARD
END:VTIMEZONE
BEGIN:VEVENT
DTSTART;TZID=America/Los_Angeles:20230622T180000
DTEND;TZID=America/Los_Angeles:20230622T190000
DTSTAMP:20260424T125324
CREATED:20230401T192324Z
LAST-MODIFIED:20230622T173413Z
UID:10002598-1687456800-1687460400@www.childrenscabinet.org
SUMMARY:Play Skills and Friendships
DESCRIPTION:**REMINDER PLEASE CHECK YOUR CONFIRMATION EMAIL FOR ZOOM LINK **\n\n\nInstructor:  Janna Rightmire \nNevada Registry Approved: 1  Hour \nCKA:  Human Growth & Development \nThe most successful children are often the ones with strong play skills who are able to make and keep friends. Come explore how to facilitate\, expand\, and encourage these skills in your classroom environments. Participants will leave with strategies to support growth in young children. \n \nTraining Objectives: \n1﻿. Participants will understand the developmental progression of play skills \n2﻿. Participants will be able to identify types of play \n3﻿. Participants will know how to break-down\, teach and reinforce friendship skills in their classrooms \nEach professional development session offered by The Children’s Cabinet utilizes a knowledge check to ensure that our participants understand our training objectives and our instructors are providing a comprehensive learning experience. You can expect to receive a three question quiz or test at the end of each training. If you have questions or concerns\, or need additional information about this process\, feel free to contact the Professional Development Training Coordinator at 775-856-6200.
URL:https://www.childrenscabinet.org/event/play-skills-and-friendships/
LOCATION:NV
CATEGORIES:Childcare Provider
ATTACH;FMTTYPE=image/jpeg:https://www.childrenscabinet.org/wp-content/uploads/2023/04/6af8eebaf9a1fb82b927a2d2b5ed045e-WpWGL6.tmp_.jpg
END:VEVENT
BEGIN:VEVENT
DTSTART;TZID=America/Los_Angeles:20230622T180000
DTEND;TZID=America/Los_Angeles:20230622T200000
DTSTAMP:20260424T125324
CREATED:20230608T175230Z
LAST-MODIFIED:20230622T195221Z
UID:10002622-1687456800-1687464000@www.childrenscabinet.org
SUMMARY:Mind in the Making Life Skill #4: Making Connections
DESCRIPTION:Please be aware that you will be asked to adhere to all current social distancing guidelines and COVID-19 safety protocols\n\n\nInstructor:  Hannah West \nNevada Registry Approved:   2.0  Hours \nCKA:  Human Growth & Development \nMITM training will provide opportunities for adults to examine child development research and themselves to create strategic actions they can take to promote executive function-based skills in children ages 0-8. \nTraining Objectives: \n1﻿. Learn that the Life Skill of Making Connections calls on Executive Functions in order to categorize. \n2﻿. Recognize that Making Connections is central to learning because the skill underlies symbolic representation. \n3﻿. Explore making unusual connections and how they relate to creativity. \nEach professional development session offered by The Children’s Cabinet utilizes a knowledge check to ensure that our participants understand our training objectives and our instructors are providing a comprehensive learning experience. You can expect to receive a three question quiz or test at the end of each training. If you have questions or concerns\, or need additional information about this process\, feel free to contact the Professional Development Training Coordinator at 775-856-6200.
URL:https://www.childrenscabinet.org/event/mind-in-the-making-life-skill-4-making-connections-6/
LOCATION:Nevada Strong Start Child Care Services Center\, 961 Matley Lane Suite 110\, Reno\, NV\, 89502\, United States
CATEGORIES:Childcare Provider
ATTACH;FMTTYPE=image/jpeg:https://www.childrenscabinet.org/wp-content/uploads/2023/03/3c524c9e1402973554bc9c5f04871e64-fSP0zq.tmp_.jpg
END:VEVENT
END:VCALENDAR