BEGIN:VCALENDAR
VERSION:2.0
PRODID:-//Children&#039;s Cabinet - ECPv6.15.17//NONSGML v1.0//EN
CALSCALE:GREGORIAN
METHOD:PUBLISH
X-WR-CALNAME:Children&#039;s Cabinet
X-ORIGINAL-URL:https://www.childrenscabinet.org
X-WR-CALDESC:Events for Children&#039;s Cabinet
REFRESH-INTERVAL;VALUE=DURATION:PT1H
X-Robots-Tag:noindex
X-PUBLISHED-TTL:PT1H
BEGIN:VTIMEZONE
TZID:America/Los_Angeles
BEGIN:DAYLIGHT
TZOFFSETFROM:-0800
TZOFFSETTO:-0700
TZNAME:PDT
DTSTART:20220313T100000
END:DAYLIGHT
BEGIN:STANDARD
TZOFFSETFROM:-0700
TZOFFSETTO:-0800
TZNAME:PST
DTSTART:20221106T090000
END:STANDARD
BEGIN:DAYLIGHT
TZOFFSETFROM:-0800
TZOFFSETTO:-0700
TZNAME:PDT
DTSTART:20230312T100000
END:DAYLIGHT
BEGIN:STANDARD
TZOFFSETFROM:-0700
TZOFFSETTO:-0800
TZNAME:PST
DTSTART:20231105T090000
END:STANDARD
BEGIN:DAYLIGHT
TZOFFSETFROM:-0800
TZOFFSETTO:-0700
TZNAME:PDT
DTSTART:20240310T100000
END:DAYLIGHT
BEGIN:STANDARD
TZOFFSETFROM:-0700
TZOFFSETTO:-0800
TZNAME:PST
DTSTART:20241103T090000
END:STANDARD
END:VTIMEZONE
BEGIN:VEVENT
DTSTART;TZID=America/Los_Angeles:20230624T090000
DTEND;TZID=America/Los_Angeles:20230624T110000
DTSTAMP:20260424T125135
CREATED:20230427T213809Z
LAST-MODIFIED:20230624T052232Z
UID:10002086-1687597200-1687604400@www.childrenscabinet.org
SUMMARY:Guidelines and Standards in Early Childhood Education
DESCRIPTION:Please be aware that you will be asked to adhere to all current social distancing guidelines and COVID-19 safety protocols\n\n\nInstructor: Constance Tomaneng \nNevada Registry Approved: 2.0 hours \nCKA:  Environment & Curriculum \nEarly Childhood Educators should know about and understand the goals\, benefits\, and uses of child and program guidelines and standards. Utilizing the Early Learning Guidelines and Pre-K Standards is critical to improving educators skills in designing learning experiences that are informed by the children’s developmental abilities. \nTraining Objectives : \n1﻿. To understand how to use guidelines and the standards in the ECE classroom. \n2﻿.To better select learning experiences that are informed by children’s developmental abilities. \n3﻿.To show learning experiences that accommodate different learning needs. \nEach professional development session offered by The Children’s Cabinet utilizes a knowledge check to ensure that our participants understand our training objectives and our instructors are providing a comprehensive learning experience. You can expect to receive a three question quiz or test at the end of each training. If you have questions or concerns\, or need additional information about this process\, feel free to contact the Professional Development Training Coordinator at 702-825-8978
URL:https://www.childrenscabinet.org/event/guidelines-and-standards-in-early-childhood-education-2/
LOCATION:Las Vegas The Children’s Cabinet\, 5905 S. Decatur Blvd. Ste. 13\, Las Vegas\, NV\, 89118\, United States
CATEGORIES:Childcare Provider
ATTACH;FMTTYPE=image/jpeg:https://www.childrenscabinet.org/wp-content/uploads/2023/04/48387fd98e9662aa4b81d09efb3d9deb-C48QB1.tmp_.jpg
END:VEVENT
END:VCALENDAR