BEGIN:VCALENDAR
VERSION:2.0
PRODID:-//Children&#039;s Cabinet - ECPv6.15.17//NONSGML v1.0//EN
CALSCALE:GREGORIAN
METHOD:PUBLISH
X-WR-CALNAME:Children&#039;s Cabinet
X-ORIGINAL-URL:https://www.childrenscabinet.org
X-WR-CALDESC:Events for Children&#039;s Cabinet
REFRESH-INTERVAL;VALUE=DURATION:PT1H
X-Robots-Tag:noindex
X-PUBLISHED-TTL:PT1H
BEGIN:VTIMEZONE
TZID:America/Los_Angeles
BEGIN:DAYLIGHT
TZOFFSETFROM:-0800
TZOFFSETTO:-0700
TZNAME:PDT
DTSTART:20230312T100000
END:DAYLIGHT
BEGIN:STANDARD
TZOFFSETFROM:-0700
TZOFFSETTO:-0800
TZNAME:PST
DTSTART:20231105T090000
END:STANDARD
BEGIN:DAYLIGHT
TZOFFSETFROM:-0800
TZOFFSETTO:-0700
TZNAME:PDT
DTSTART:20240310T100000
END:DAYLIGHT
BEGIN:STANDARD
TZOFFSETFROM:-0700
TZOFFSETTO:-0800
TZNAME:PST
DTSTART:20241103T090000
END:STANDARD
BEGIN:DAYLIGHT
TZOFFSETFROM:-0800
TZOFFSETTO:-0700
TZNAME:PDT
DTSTART:20250309T100000
END:DAYLIGHT
BEGIN:STANDARD
TZOFFSETFROM:-0700
TZOFFSETTO:-0800
TZNAME:PST
DTSTART:20251102T090000
END:STANDARD
END:VTIMEZONE
BEGIN:VEVENT
DTSTART;TZID=America/Los_Angeles:20241105T180000
DTEND;TZID=America/Los_Angeles:20241203T200000
DTSTAMP:20260424T014202
CREATED:20240916T234224Z
LAST-MODIFIED:20241105T104228Z
UID:10002930-1730829600-1733256000@www.childrenscabinet.org
SUMMARY:Active Parenting for Stepfamilies
DESCRIPTION:This is an in-person  class at The Children’s Cabinet. **SEE NOTES**\n\n\nThis is an in-person class \nTotal Hours: 8.0 \nActive Parenting for Stepfamilies is a program for both parents and stepparents. It demonstrates skills for raising children in the unique blended family environment\, along with powerful communication and negotiation skills to strengthen marriage and family. The program covers topics that are unique to stepfamilies: the stepparent’s role\, emotional baggage\, differences in values\, discipline\, power struggles\, and celebrating your blended family’s achievements. \nThis is a 4 sessions in person class\, for 4 consequtive Tuesdays on 11/5; 11/12; 11/19; and 12/3 Each class is 2 hrs. Certificate for this class will be given at the completion of class #4 for classes attended. \nInstructor: Thelma Aviles \nFor a copy of your records or personal identifiable information\, please direct requests to: \nProfessional Development Team\, Attn: Program Assistantcabtraining2@childrenscabinet.org \nFor more information on your security and privacy\, please visit our full policy by scanning the QR in the participant policy notice below.
URL:https://www.childrenscabinet.org/event/active-parenting-for-stepfamilies-4/
LOCATION:The Children’s Cabinet\, 5905 South Decatur Blvd.\, Suite #13\, Las Vegas\, NV\, 89118\, United States
CATEGORIES:Parenting
ATTACH;FMTTYPE=image/jpeg:https://www.childrenscabinet.org/wp-content/uploads/2024/10/54e3454daea777eb077d5e0b9890466c-1fvfP4.tmp_.jpg
END:VEVENT
BEGIN:VEVENT
DTSTART;TZID=America/Los_Angeles:20241113T173000
DTEND;TZID=America/Los_Angeles:20241113T183000
DTSTAMP:20260424T014202
CREATED:20240912T234206Z
LAST-MODIFIED:20241104T225713Z
UID:10002902-1731519000-1731522600@www.childrenscabinet.org
SUMMARY:Out of School Time SET Everyday…Using Centers in Afterschool
DESCRIPTION:***Please make sure to have a Zoom account prior to attending The Children’s Cabinet virtual trainings.*** (Handouts-Windows 10 or better)\n\n\nInstructor:   Constance Tomaneng \nNevada Registry Approved: 1.0 Hours \nCKA:  Environment & Curriculum \nThis session focuses on knowledge-centered\, learner-driven activities that can be easily delivered through centers in your afterschool program. Eleven elements of effective SET (science\, engineering\, and technology) learning centers are discussed. Tips for facilitating and managing centers are also covered. \nTraining Objectives: \n1﻿.To understand the importance of having readily accessible self-directed\, learner-centered SET experiences. \n2﻿.To know how to integrate elements of effective SET afterschool learning centers. \n3﻿. To know how to facilitate and manage centers and to develop opportunities for youth to think\, act\, and nurture the scientist in each of them.
URL:https://www.childrenscabinet.org/event/out-of-school-time-set-everydayusing-centers-in-afterschool-8/
LOCATION:NV
CATEGORIES:Childcare Provider
ATTACH;FMTTYPE=image/jpeg:https://www.childrenscabinet.org/wp-content/uploads/2024/10/e1d41b278dce2fd0f5289644a49dacde-aLjuLY.tmp_.jpg
END:VEVENT
BEGIN:VEVENT
DTSTART;TZID=America/Los_Angeles:20241113T180000
DTEND;TZID=America/Los_Angeles:20241113T193000
DTSTAMP:20260424T014202
CREATED:20240913T164658Z
LAST-MODIFIED:20241105T095720Z
UID:10002915-1731520800-1731526200@www.childrenscabinet.org
SUMMARY:Vroom Brain Builder Series: Identity Development
DESCRIPTION:Please be aware that you will be asked to adhere to all current social distancing guidelines and COVID-19 safety protocols\n\n\nInstructor: Hannah West \nNevada Registry Approved: 1.5 Hours \nCKA: Human Growth & Development \nParticipants’ will reinforce their knowledge of early brain development\, while connecting it to the importance of promoting identity development in early childhood. They will also be given resources to support their efforts in promoting identity development. \nTraining Objectives: \n1 . By the end of this session\, learners will restate the phases of identity development that takes place in early childhood. \n2 . By the end of this session\, learners will illustrate the ways they can create a sense of belonging in their classroom. \n3 . By the end of this session\, learners will choose a Vroom tip they can use to promote positive identity development. \n \nEach professional development session offered by The Children’s Cabinet utilizes a knowledge check to ensure that our participants understand our training objectives and our instructors are providing a comprehensive learning experience. You can expect to receive a three question quiz or test at the end of each training. If you have questions or concerns\, or need additional information about this process\, feel free to contact the Professional Development Training Coordinator at 775-856-6200. \n \nFor a copy of your records or personal identifiable information\, please direct requests to: \nProfessional Development Team\, Attn: Program Assistantcabtraining2@childrenscabinet.org \nFor more information on your security and privacy\, please visit our full policy by scanning the QR in the participant policy notice below.
URL:https://www.childrenscabinet.org/event/vroom-brain-builder-series-identity-development/
LOCATION:Nevada Strong Start Child Care Services Center\, 961 Matley Lane Suite 110\, Reno\, NV\, 89502\, United States
CATEGORIES:Childcare Provider
ATTACH;FMTTYPE=image/jpeg:https://www.childrenscabinet.org/wp-content/uploads/2024/10/2a684559e0e304385ac6bfef1952075a-3zv945.tmp_.jpg
END:VEVENT
END:VCALENDAR