BEGIN:VCALENDAR
VERSION:2.0
PRODID:-//Children&#039;s Cabinet - ECPv6.15.17//NONSGML v1.0//EN
CALSCALE:GREGORIAN
METHOD:PUBLISH
X-WR-CALNAME:Children&#039;s Cabinet
X-ORIGINAL-URL:https://www.childrenscabinet.org
X-WR-CALDESC:Events for Children&#039;s Cabinet
REFRESH-INTERVAL;VALUE=DURATION:PT1H
X-Robots-Tag:noindex
X-PUBLISHED-TTL:PT1H
BEGIN:VTIMEZONE
TZID:America/Los_Angeles
BEGIN:DAYLIGHT
TZOFFSETFROM:-0800
TZOFFSETTO:-0700
TZNAME:PDT
DTSTART:20230312T100000
END:DAYLIGHT
BEGIN:STANDARD
TZOFFSETFROM:-0700
TZOFFSETTO:-0800
TZNAME:PST
DTSTART:20231105T090000
END:STANDARD
BEGIN:DAYLIGHT
TZOFFSETFROM:-0800
TZOFFSETTO:-0700
TZNAME:PDT
DTSTART:20240310T100000
END:DAYLIGHT
BEGIN:STANDARD
TZOFFSETFROM:-0700
TZOFFSETTO:-0800
TZNAME:PST
DTSTART:20241103T090000
END:STANDARD
BEGIN:DAYLIGHT
TZOFFSETFROM:-0800
TZOFFSETTO:-0700
TZNAME:PDT
DTSTART:20250309T100000
END:DAYLIGHT
BEGIN:STANDARD
TZOFFSETFROM:-0700
TZOFFSETTO:-0800
TZNAME:PST
DTSTART:20251102T090000
END:STANDARD
END:VTIMEZONE
BEGIN:VEVENT
DTSTART;TZID=America/Los_Angeles:20241210T180000
DTEND;TZID=America/Los_Angeles:20241210T200000
DTSTAMP:20260421T125752
CREATED:20240916T234233Z
LAST-MODIFIED:20241105T104244Z
UID:10002933-1733853600-1733860800@www.childrenscabinet.org
SUMMARY:The Impact of Media on Children and Teens
DESCRIPTION:**REMINDER PLEASE CHECK YOUR EMAIL FOR ZOOM LINK**\n\n\nTHIS IS A LIVE ONLINE WEBINAR \nTotal Hours: 2.0 \nIn this class\, we will discuss the benefits and risks of Social Media in your children’s life. We will also talk about suggestions for Internet use\,Social Media’s impact on teens and young children’s mental health\, depression\, anxiety\, communication issues and brain development. (2-hour program) \nInstructor: Thelma Aviles \nFor a copy of your records or personal identifiable information\, please direct requests to: \nProfessional Development Team\, Attn: Program Assistantcabtraining2@childrenscabinet.org \nFor more information on your security and privacy\, please visit our full policy by scanning the QR in the participant policy notice below.
URL:https://www.childrenscabinet.org/event/the-impact-of-media-on-children-and-teens/
LOCATION:NV
CATEGORIES:Parenting
ATTACH;FMTTYPE=image/jpeg:https://www.childrenscabinet.org/wp-content/uploads/2024/10/02386355fa625a015db806df359c8952-seZgjC.tmp_.jpg
END:VEVENT
END:VCALENDAR