BEGIN:VCALENDAR
VERSION:2.0
PRODID:-//Children&#039;s Cabinet - ECPv6.15.17//NONSGML v1.0//EN
CALSCALE:GREGORIAN
METHOD:PUBLISH
X-ORIGINAL-URL:https://www.childrenscabinet.org
X-WR-CALDESC:Events for Children&#039;s Cabinet
REFRESH-INTERVAL;VALUE=DURATION:PT1H
X-Robots-Tag:noindex
X-PUBLISHED-TTL:PT1H
BEGIN:VTIMEZONE
TZID:America/Los_Angeles
BEGIN:DAYLIGHT
TZOFFSETFROM:-0800
TZOFFSETTO:-0700
TZNAME:PDT
DTSTART:20230312T100000
END:DAYLIGHT
BEGIN:STANDARD
TZOFFSETFROM:-0700
TZOFFSETTO:-0800
TZNAME:PST
DTSTART:20231105T090000
END:STANDARD
BEGIN:DAYLIGHT
TZOFFSETFROM:-0800
TZOFFSETTO:-0700
TZNAME:PDT
DTSTART:20240310T100000
END:DAYLIGHT
BEGIN:STANDARD
TZOFFSETFROM:-0700
TZOFFSETTO:-0800
TZNAME:PST
DTSTART:20241103T090000
END:STANDARD
BEGIN:DAYLIGHT
TZOFFSETFROM:-0800
TZOFFSETTO:-0700
TZNAME:PDT
DTSTART:20250309T100000
END:DAYLIGHT
BEGIN:STANDARD
TZOFFSETFROM:-0700
TZOFFSETTO:-0800
TZNAME:PST
DTSTART:20251102T090000
END:STANDARD
END:VTIMEZONE
BEGIN:VEVENT
DTSTART;TZID=America/Los_Angeles:20241217T170000
DTEND;TZID=America/Los_Angeles:20241217T183000
DTSTAMP:20260421T145159
CREATED:20240912T234232Z
LAST-MODIFIED:20241105T104246Z
UID:10002390-1734454800-1734460200@www.childrenscabinet.org
SUMMARY:Soluciones Positivas Para Familias: Ensename Que Hacer!
DESCRIPTION:**PARTICIPANTS MUST COMPLETE REGISTRATION IN THE LINK PROVIDED IN THE CONFIRMATION EMAIL**\n\n\nTHIS IS A LIVE WEBINAR \nTrainers: Ivett Nunez \nHours: 1.5 \nLa clase ensena como promover las habilidades sociales y emocionales de sus hijos\, comprender sus comportamientos prolematicos y usar enforques positivos para ayudar a los ninos a aprender el comportamiento arpropiado. Determinara el significado del comportamiento de los ninos siendo un detective del comportamiento y elaborando y ensenando reglas. \nFor a copy of your records or personal identifiable information\, please direct requests to: \nProfessional Development Team\, Attn: Program Assistantcabtraining2@childrenscabinet.org \nFor more information on your security and privacy\, please visit our full policy by scanning the QR in the participant policy notice below.
URL:https://www.childrenscabinet.org/event/soluciones-positivas-para-familias-ensename-que-hacer-3/
LOCATION:NV
CATEGORIES:Parenting
ATTACH;FMTTYPE=image/jpeg:https://www.childrenscabinet.org/wp-content/uploads/2024/10/f0d454bcb7cb4e3b4d4af26f1c7cefae-Q8bck5.tmp_.jpg
END:VEVENT
BEGIN:VEVENT
DTSTART;TZID=America/Los_Angeles:20241217T170000
DTEND;TZID=America/Los_Angeles:20241217T190000
DTSTAMP:20260421T145159
CREATED:20240913T164701Z
LAST-MODIFIED:20241105T095725Z
UID:10002919-1734454800-1734462000@www.childrenscabinet.org
SUMMARY:Emotion Expedition: Navigating the Jungles of Tantrums
DESCRIPTION:Please be aware that you will be asked to adhere to all current social distancing guidelines and COVID-19 safety protocols\n\n\nInstructor: Janna Mason \nNevada Registry Approved: 2.0 Hours \nCKA: Positive Interactions & Guidance \nMany emotions arise when temper tantrums take hold. In this training\, we will embark on an expedition to navigate through a jungle of different territories related to handling temper tantrums. We will learn practical strategies and navigate reactions to find the calm again. \nTraining Objectives: \n1 . By the end of this session\, learners will identify key signs\, triggers and developmental factors associated with temper tantrums in young children. \n2 . By the end of this session\, learners will implement and practice effective strategies for managing temper tantrums. \n3 . By the end of this session\, learners will describe the impact of teacher reactions on tantrums and adapt strategies to respond effectively. \n \nEach professional development session offered by The Children’s Cabinet utilizes a knowledge check to ensure that our participants understand our training objectives and our instructors are providing a comprehensive learning experience. You can expect to receive a three question quiz or test at the end of each training. If you have questions or concerns\, or need additional information about this process\, feel free to contact the Professional Development Training Coordinator at 775-856-6200. \n \nFor a copy of your records or personal identifiable information\, please direct requests to: \nProfessional Development Team\, Attn: Program Assistantcabtraining2@childrenscabinet.org \nFor more information on your security and privacy\, please visit our full policy by scanning the QR in the participant policy notice below.
URL:https://www.childrenscabinet.org/event/emotion-expedition-navigating-the-jungles-of-tantrums/
LOCATION:Nevada Strong Start Child Care Services Center\, 961 Matley Lane Suite 110\, Reno\, NV\, 89502\, United States
CATEGORIES:Childcare Provider
ATTACH;FMTTYPE=image/jpeg:https://www.childrenscabinet.org/wp-content/uploads/2024/10/355031fae035921900c7428978abf32d-qbZXL3.tmp_.jpg
END:VEVENT
BEGIN:VEVENT
DTSTART;TZID=America/Los_Angeles:20241217T180000
DTEND;TZID=America/Los_Angeles:20241217T200000
DTSTAMP:20260421T145159
CREATED:20240916T234237Z
LAST-MODIFIED:20241105T104247Z
UID:10002935-1734458400-1734465600@www.childrenscabinet.org
SUMMARY:Infants and Toddlers Cognitive Behavior
DESCRIPTION:**REMINDER PLEASE CHECK YOUR EMAIL FOR ZOOM LINK**\n\n\nTHIS IS A LIVE ONLINE WEBINAR \nTotal Hours: 2.0 \nCognitive Development is the process in which our brains develop over time. During the first 3 years of life\, the brain goes through rapid growth and change. In this class we will talk about how a baby’s brain develops from womb until the age of 3 and beyond. And you can be an active part of your child’s brain development. (2-hour program) \nInstructor: Thelma Aviles \nFor a copy of your records or personal identifiable information\, please direct requests to: \nProfessional Development Team\, Attn: Program Assistantcabtraining2@childrenscabinet.org \nFor more information on your security and privacy\, please visit our full policy by scanning the QR in the participant policy notice below.
URL:https://www.childrenscabinet.org/event/infants-and-toddlers-cognitive-behavior/
LOCATION:NV
CATEGORIES:Parenting
ATTACH;FMTTYPE=image/jpeg:https://www.childrenscabinet.org/wp-content/uploads/2024/10/3aef90edf4eccf6569ccb99460712fea-ixc9zX.tmp_.jpg
END:VEVENT
END:VCALENDAR