BEGIN:VCALENDAR
VERSION:2.0
PRODID:-//Children&#039;s Cabinet - ECPv6.15.17//NONSGML v1.0//EN
CALSCALE:GREGORIAN
METHOD:PUBLISH
X-WR-CALNAME:Children&#039;s Cabinet
X-ORIGINAL-URL:https://www.childrenscabinet.org
X-WR-CALDESC:Events for Children&#039;s Cabinet
REFRESH-INTERVAL;VALUE=DURATION:PT1H
X-Robots-Tag:noindex
X-PUBLISHED-TTL:PT1H
BEGIN:VTIMEZONE
TZID:America/Los_Angeles
BEGIN:DAYLIGHT
TZOFFSETFROM:-0800
TZOFFSETTO:-0700
TZNAME:PDT
DTSTART:20240310T100000
END:DAYLIGHT
BEGIN:STANDARD
TZOFFSETFROM:-0700
TZOFFSETTO:-0800
TZNAME:PST
DTSTART:20241103T090000
END:STANDARD
BEGIN:DAYLIGHT
TZOFFSETFROM:-0800
TZOFFSETTO:-0700
TZNAME:PDT
DTSTART:20250309T100000
END:DAYLIGHT
BEGIN:STANDARD
TZOFFSETFROM:-0700
TZOFFSETTO:-0800
TZNAME:PST
DTSTART:20251102T090000
END:STANDARD
BEGIN:DAYLIGHT
TZOFFSETFROM:-0800
TZOFFSETTO:-0700
TZNAME:PDT
DTSTART:20260308T100000
END:DAYLIGHT
BEGIN:STANDARD
TZOFFSETFROM:-0700
TZOFFSETTO:-0800
TZNAME:PST
DTSTART:20261101T090000
END:STANDARD
END:VTIMEZONE
BEGIN:VEVENT
DTSTART;TZID=America/Los_Angeles:20250114T180000
DTEND;TZID=America/Los_Angeles:20250114T200000
DTSTAMP:20260421T125636
CREATED:20250113T200838Z
LAST-MODIFIED:20250114T052533Z
UID:10002946-1736877600-1736884800@www.childrenscabinet.org
SUMMARY:Active Parenting 201: Helping Your Kids Learn Good Communication
DESCRIPTION:**REMINDER PLEASE CHECK YOUR EMAIL FOR ZOOM LINK**\n\n\nTHIS IS A LIVE ONLINE WEBINAR \nTotal Hours: 2.0 \nWhen people work together cooperatively\, problems are solved. A child who learns to work cooperatively with others has a far greater chance of success than a child who stands alone. This class will help you develop the skills for teaching cooperation and good communication to your child. We will discuss how to help our kids recognize and solve common problems using sound communication skills (e.g.\, Active Listening\, responding to feelings\, looking for alternatives\, offering encouragement\, and follow-up).(This is a 2-hour class suggested for those parenting children ages 6-12 years.) \nInstructor: Thelma Aviles \nFor a copy of your records or personal identifiable information\, please direct requests to: \nProfessional Development Team\, Attn: Program Assistantcabtraining2@childrenscabinet.org \nFor more information on your security and privacy\, please visit our full policy by scanning the QR in the participant policy notice below.
URL:https://www.childrenscabinet.org/event/active-parenting-201-helping-your-kids-learn-good-communication/
LOCATION:NV
CATEGORIES:Parenting
ATTACH;FMTTYPE=image/jpeg:https://www.childrenscabinet.org/wp-content/uploads/2024/10/02386355fa625a015db806df359c8952-seZgjC.tmp_.jpg
END:VEVENT
BEGIN:VEVENT
DTSTART;TZID=America/Los_Angeles:20250114T180000
DTEND;TZID=America/Los_Angeles:20250114T200000
DTSTAMP:20260421T125636
CREATED:20250113T201006Z
LAST-MODIFIED:20250114T054129Z
UID:10002990-1736877600-1736884800@www.childrenscabinet.org
SUMMARY:Pyramid Model #7 Anger Management & Impulse Control
DESCRIPTION:**REMINDER PLEASE CHECK YOUR CONFIRMATION EMAIL FOR ZOOM LINK **\n\n\nInstructor: Taylor Jun \nNevada Registry Approved: 2.0 Hours \nCKA: Positive Interactions & Guidance \nParticipants will learn the connection between emotional literacy and anger management using various materials and strategies. We will review different applications of these strategies using group discussions and example scenarios. \nTraining Objectives: \n1 . What is the connection between emotional literacy and anger management. \n2 . Identify two anger management tools. \n3 . Identify two teaching strategies used to help children calm down. \nEach professional development session offered by The Children’s Cabinet utilizes a knowledge check to ensure that our participants understand our training objectives and our instructors are providing a comprehensive learning experience. You can expect to receive a three question quiz or test at the end of each training. If you have questions or concerns\, or need additional information about this process\, feel free to contact the Professional Development Training Coordinator at 775-856-6200. \n \nFor a copy of your records or personal identifiable information\, please direct requests to: \nProfessional Development Team\, Attn: Program Assistantcabtraining2@childrenscabinet.org \nFor more information on your security and privacy\, please visit our full policy by scanning the QR in the participant policy notice below.
URL:https://www.childrenscabinet.org/event/pyramid-model-7-anger-management-impulse-control-2/
LOCATION:NV
CATEGORIES:Childcare Provider
ATTACH;FMTTYPE=image/jpeg:https://www.childrenscabinet.org/wp-content/uploads/2025/01/9c89caeaec69f7489ce241a48b5122a7-iWBRHY.tmp_.jpg
END:VEVENT
END:VCALENDAR