BEGIN:VCALENDAR
VERSION:2.0
PRODID:-//Children&#039;s Cabinet - ECPv6.15.17//NONSGML v1.0//EN
CALSCALE:GREGORIAN
METHOD:PUBLISH
X-WR-CALNAME:Children&#039;s Cabinet
X-ORIGINAL-URL:https://www.childrenscabinet.org
X-WR-CALDESC:Events for Children&#039;s Cabinet
REFRESH-INTERVAL;VALUE=DURATION:PT1H
X-Robots-Tag:noindex
X-PUBLISHED-TTL:PT1H
BEGIN:VTIMEZONE
TZID:America/Los_Angeles
BEGIN:DAYLIGHT
TZOFFSETFROM:-0800
TZOFFSETTO:-0700
TZNAME:PDT
DTSTART:20240310T100000
END:DAYLIGHT
BEGIN:STANDARD
TZOFFSETFROM:-0700
TZOFFSETTO:-0800
TZNAME:PST
DTSTART:20241103T090000
END:STANDARD
BEGIN:DAYLIGHT
TZOFFSETFROM:-0800
TZOFFSETTO:-0700
TZNAME:PDT
DTSTART:20250309T100000
END:DAYLIGHT
BEGIN:STANDARD
TZOFFSETFROM:-0700
TZOFFSETTO:-0800
TZNAME:PST
DTSTART:20251102T090000
END:STANDARD
BEGIN:DAYLIGHT
TZOFFSETFROM:-0800
TZOFFSETTO:-0700
TZNAME:PDT
DTSTART:20260308T100000
END:DAYLIGHT
BEGIN:STANDARD
TZOFFSETFROM:-0700
TZOFFSETTO:-0800
TZNAME:PST
DTSTART:20261101T090000
END:STANDARD
END:VTIMEZONE
BEGIN:VEVENT
DTSTART;TZID=America/Los_Angeles:20250123T180000
DTEND;TZID=America/Los_Angeles:20250123T200000
DTSTAMP:20260421T111853
CREATED:20250113T201023Z
LAST-MODIFIED:20250123T222810Z
UID:10002994-1737655200-1737662400@www.childrenscabinet.org
SUMMARY:Unlocking the Mysteries of Positive Guidance
DESCRIPTION:In-Person\n\n\nInstructor: Janna Mason \nNevada Registry Approved: 2.0 Hours \nCKA: Positive Interactions & Guidance \nParticipants will learn the research behind challenging behaviors\, and developmentally appropriate techniques to positive guidance. They will learn the key factors of how an environment can affect behaviors and have the opportunity to brainstorm and reflect on techniques to support positive exchanges to improve challenging behaviors. \nTraining Objectives: \n1 . By the end of the session\, participants will discover reasons children have challenging behaviors and how to support them. \n2 . By the end of the session\, participants will evaluate how an environment can affect behaviors. \n3 . By the end of the session\, participants will identify how to guide children to increase positive exchanges and decrease challenging behavior. \nEach professional development session offered by The Children’s Cabinet utilizes a knowledge check to ensure that our participants understand our training objectives and our instructors are providing a comprehensive learning experience. You can expect to receive a three question quiz or test at the end of each training. If you have questions or concerns\, or need additional information about this process\, feel free to contact the Professional Development Training Coordinator at 775-856-6200. \n \nFor a copy of your records or personal identifiable information\, please direct requests to: \nProfessional Development Team\, Attn: Program Assistantcabtraining2@childrenscabinet.org \nFor more information on your security and privacy\, please visit our full policy by scanning the QR in the participant policy notice below.
URL:https://www.childrenscabinet.org/event/unlocking-the-mysteries-of-positive-guidance-4/
LOCATION:St. Teresa of Avila Child Development Center\, 561 South Richmond Avenue\, Carson City\, NV\, 89703\, United States
CATEGORIES:Childcare Provider
ATTACH;FMTTYPE=image/jpeg:https://www.childrenscabinet.org/wp-content/uploads/2025/01/2c5c96e727d443cfb6383797120895e7-zTGj9R.tmp_.jpg
END:VEVENT
END:VCALENDAR