BEGIN:VCALENDAR
VERSION:2.0
PRODID:-//Children&#039;s Cabinet - ECPv6.15.17//NONSGML v1.0//EN
CALSCALE:GREGORIAN
METHOD:PUBLISH
X-ORIGINAL-URL:https://www.childrenscabinet.org
X-WR-CALDESC:Events for Children&#039;s Cabinet
REFRESH-INTERVAL;VALUE=DURATION:PT1H
X-Robots-Tag:noindex
X-PUBLISHED-TTL:PT1H
BEGIN:VTIMEZONE
TZID:America/Los_Angeles
BEGIN:DAYLIGHT
TZOFFSETFROM:-0800
TZOFFSETTO:-0700
TZNAME:PDT
DTSTART:20250309T100000
END:DAYLIGHT
BEGIN:STANDARD
TZOFFSETFROM:-0700
TZOFFSETTO:-0800
TZNAME:PST
DTSTART:20251102T090000
END:STANDARD
BEGIN:DAYLIGHT
TZOFFSETFROM:-0800
TZOFFSETTO:-0700
TZNAME:PDT
DTSTART:20260308T100000
END:DAYLIGHT
BEGIN:STANDARD
TZOFFSETFROM:-0700
TZOFFSETTO:-0800
TZNAME:PST
DTSTART:20261101T090000
END:STANDARD
BEGIN:DAYLIGHT
TZOFFSETFROM:-0800
TZOFFSETTO:-0700
TZNAME:PDT
DTSTART:20270314T100000
END:DAYLIGHT
BEGIN:STANDARD
TZOFFSETFROM:-0700
TZOFFSETTO:-0800
TZNAME:PST
DTSTART:20271107T090000
END:STANDARD
END:VTIMEZONE
BEGIN:VEVENT
DTSTART;TZID=America/Los_Angeles:20260204T090000
DTEND;TZID=America/Los_Angeles:20260304T103000
DTSTAMP:20260425T053818
CREATED:20260130T221907Z
LAST-MODIFIED:20260303T094439Z
UID:10003418-1770195600-1772620200@www.childrenscabinet.org
SUMMARY:Childcare Tax Readiness
DESCRIPTION:1.5 hrs. online training. Please check your confirmation email for the ZOOM link.\n\n\nNevada Registry Approved: 1.5 hours \nInstructor: Shanita Jones \nCKA:  \nLearning Event Sumary: Management & Administration \nThis class guides participants in identifying required business tax documents\, distinguishing personal versus business expenses\, and learning key questions to ask a tax preparer to ensure accurate filing\, compliance\, and informed financial decisions. \nLearning Outcomes: \n•Currently no classes are offered related to tax preparation \n•A tax class will supplement the SBP modules \n•Increase knowledge around tax preparation in the childcare field \n \nEach professional development session offered by The Children’s Cabinet utilizes a knowledge check to ensure that our participants understand our training objectives and our instructors are providing a comprehensive learning experience. You can expect to receive a three question quiz or test at the end of each training. If you have questions or concerns\, or need additional information about this process\, feel free to contact the Professional Development Training Coordinator at 702-245-8555. \n \nFor a copy of your records or personal identifiable information\, please direct requests to: \nProfessional Development Team\, Attn: Program Assistanttraininglv@childrenscabinet.org \nFor more information on your security and privacy\, please visit our full policy by scanning the QR in the participant policy notice below.
URL:https://www.childrenscabinet.org/event/childcare-tax-readiness/
LOCATION:NV
CATEGORIES:Childcare Provider
ATTACH;FMTTYPE=image/jpeg:https://www.childrenscabinet.org/wp-content/uploads/2025/02/c634e1c404b05da1bd1a42e96b5b43ea-85HWBI.tmp_.jpg
END:VEVENT
BEGIN:VEVENT
DTSTART;TZID=America/Los_Angeles:20260205T163000
DTEND;TZID=America/Los_Angeles:20260205T183000
DTSTAMP:20260425T053818
CREATED:20251212T084453Z
LAST-MODIFIED:20260205T223348Z
UID:10003335-1770309000-1770316200@www.childrenscabinet.org
SUMMARY:Strengthening Business Practices 2- Financial Reports and Internal Controls
DESCRIPTION:**PARTICIPANTS MUST COMPLETE REGISTRATION IN THE LINK PROVIDED IN THE CONFIRMATION EMAIL**\n\n\nNevada Registry Approved: 2 hours \nInstructor: Anthony Kharrat  \nCKA: Management & Administration \n \nLearning Event Summary: \nThis will bring understanding and purpose of financial reports and their use and will identify internal controls and how they can strengthen the fiscal management. \n \nLearning Outcomes: \n1 . Learners will learn the value of developing a plan for financial reports and their use in fiscal management. \n2 . Learners will identify internal controls and how they can strengthen the fiscal management. \n3 . Learners will understand the purpose of financial reports and their use in fiscal management. \n \nEach professional development session offered by The Children’s Cabinet utilizes a knowledge check to ensure that our participants understand our training objectives and our instructors are providing a comprehensive learning experience. You can expect to receive a three question quiz or test at the end of each training. If you have questions or concerns\, or need additional information about this process\, feel free to contact the Professional Development Training Coordinator at 702-245-8555. \n \nFor a copy of your records or personal identifiable information\, please direct requests to: \nProfessional Development Team\, Attn: Program Assistant \ntraininglv@childrenscabinet.org \nFor more information on your security and privacy\, please visit our full policy by scanning the QR in the participant policy notice below.
URL:https://www.childrenscabinet.org/event/strengthening-business-practices-2-financial-reports-and-internal-controls-2/
LOCATION:NV
CATEGORIES:Childcare Provider
ATTACH;FMTTYPE=image/jpeg:https://www.childrenscabinet.org/wp-content/uploads/2025/12/220b704dfdc60e0e029c037d13b62fee-bjLF22.tmp_.jpg
END:VEVENT
BEGIN:VEVENT
DTSTART;TZID=America/Los_Angeles:20260205T173000
DTEND;TZID=America/Los_Angeles:20260205T190000
DTSTAMP:20260425T053818
CREATED:20251212T163015Z
LAST-MODIFIED:20260206T005959Z
UID:10003358-1770312600-1770318000@www.childrenscabinet.org
SUMMARY:Vroom: Brain Building Basics
DESCRIPTION:This is an in-person  class at  Nevada Strong Start Child Care Services Center.\n\n\nThis is an in-person class \nTotal Hours: 1.5 \nBoost your child’s brainpower with simple\, everyday moments! This class introduces parents and caregivers to Vroom’s Brain Building Basics – easy\, science-backed strategies you can use at home to support healthy brain development in young children. (This is a 1.5 hour class) \nInstructor: Hannah West \nFor a copy of your records or personal identifiable information\, please direct requests to: \nProfessional Development Team\, Attn: Program Assistantcabtraining2@childrenscabinet.org \nFor more information on your security and privacy\, please visit our full policy by scanning the QR in the participant policy notice below.
URL:https://www.childrenscabinet.org/event/vroom-brain-building-basics/
LOCATION:Nevada Strong Start Child Care Services Center\, 961 Matley Lane Suite 110\, Reno\, NV\, 89502\, United States
CATEGORIES:Parenting
ATTACH;FMTTYPE=image/jpeg:https://www.childrenscabinet.org/wp-content/uploads/2025/06/2d580c1efe83fa8c8e7336a022dd4604-muUTLV.tmp_.jpg
END:VEVENT
END:VCALENDAR