BEGIN:VCALENDAR
VERSION:2.0
PRODID:-//Children&#039;s Cabinet - ECPv6.15.17//NONSGML v1.0//EN
CALSCALE:GREGORIAN
METHOD:PUBLISH
X-WR-CALNAME:Children&#039;s Cabinet
X-ORIGINAL-URL:https://www.childrenscabinet.org
X-WR-CALDESC:Events for Children&#039;s Cabinet
REFRESH-INTERVAL;VALUE=DURATION:PT1H
X-Robots-Tag:noindex
X-PUBLISHED-TTL:PT1H
BEGIN:VTIMEZONE
TZID:America/Los_Angeles
BEGIN:DAYLIGHT
TZOFFSETFROM:-0800
TZOFFSETTO:-0700
TZNAME:PDT
DTSTART:20220313T100000
END:DAYLIGHT
BEGIN:STANDARD
TZOFFSETFROM:-0700
TZOFFSETTO:-0800
TZNAME:PST
DTSTART:20221106T090000
END:STANDARD
BEGIN:DAYLIGHT
TZOFFSETFROM:-0800
TZOFFSETTO:-0700
TZNAME:PDT
DTSTART:20230312T100000
END:DAYLIGHT
BEGIN:STANDARD
TZOFFSETFROM:-0700
TZOFFSETTO:-0800
TZNAME:PST
DTSTART:20231105T090000
END:STANDARD
BEGIN:DAYLIGHT
TZOFFSETFROM:-0800
TZOFFSETTO:-0700
TZNAME:PDT
DTSTART:20240310T100000
END:DAYLIGHT
BEGIN:STANDARD
TZOFFSETFROM:-0700
TZOFFSETTO:-0800
TZNAME:PST
DTSTART:20241103T090000
END:STANDARD
END:VTIMEZONE
BEGIN:VEVENT
DTSTART;TZID=America/Los_Angeles:20230228T180000
DTEND;TZID=America/Los_Angeles:20230228T200000
DTSTAMP:20260424T073208
CREATED:20221230T152304Z
LAST-MODIFIED:20230227T180519Z
UID:10002514-1677607200-1677614400@www.childrenscabinet.org
SUMMARY:NV Pyramid: Building Nurturing and Responsive Relationships (#2)
DESCRIPTION:***Please make sure to have a Zoom account prior to attending The Children’s Cabinet virtual trainings.*** (Handouts-Windows 10 or better)\n\n\nInstructor:    Deborah Odle \nNevada Registry Approved Hours: 2.0   \nCore Knowledge Area:  Positive Interactions and Guidance \nDescription:  Positive relationships with children serve as the foundation for addressing social-emotional needs. This training will provide information and activities to help participants understand the importance of building relationships with children\, families and colleagues as a first step in supporting children’s social emotional development and preventing challenging behavior.  \nTraining Objectives: \n1﻿. Participants will understand the importance of building nurturing and responsive relationships. \n2﻿. Participant will  understand how relationships impact children’s challenging behavior. \n3﻿. Participants will understand why relationships with families and colleagues impact program culture.
URL:https://www.childrenscabinet.org/event/nv-pyramid-building-nurturing-and-responsive-relationships-2-2/
CATEGORIES:Childcare Provider
ATTACH;FMTTYPE=image/jpeg:https://www.childrenscabinet.org/wp-content/uploads/2022/12/ef47de10e4d629175235c4bcfc3305ab-qQKPwE.tmp_.jpg
END:VEVENT
END:VCALENDAR