BEGIN:VCALENDAR
VERSION:2.0
PRODID:-//Children&#039;s Cabinet - ECPv6.15.17//NONSGML v1.0//EN
CALSCALE:GREGORIAN
METHOD:PUBLISH
X-ORIGINAL-URL:https://www.childrenscabinet.org
X-WR-CALDESC:Events for Children&#039;s Cabinet
REFRESH-INTERVAL;VALUE=DURATION:PT1H
X-Robots-Tag:noindex
X-PUBLISHED-TTL:PT1H
BEGIN:VTIMEZONE
TZID:America/Los_Angeles
BEGIN:DAYLIGHT
TZOFFSETFROM:-0800
TZOFFSETTO:-0700
TZNAME:PDT
DTSTART:20250309T100000
END:DAYLIGHT
BEGIN:STANDARD
TZOFFSETFROM:-0700
TZOFFSETTO:-0800
TZNAME:PST
DTSTART:20251102T090000
END:STANDARD
BEGIN:DAYLIGHT
TZOFFSETFROM:-0800
TZOFFSETTO:-0700
TZNAME:PDT
DTSTART:20260308T100000
END:DAYLIGHT
BEGIN:STANDARD
TZOFFSETFROM:-0700
TZOFFSETTO:-0800
TZNAME:PST
DTSTART:20261101T090000
END:STANDARD
BEGIN:DAYLIGHT
TZOFFSETFROM:-0800
TZOFFSETTO:-0700
TZNAME:PDT
DTSTART:20270314T100000
END:DAYLIGHT
BEGIN:STANDARD
TZOFFSETFROM:-0700
TZOFFSETTO:-0800
TZNAME:PST
DTSTART:20271107T090000
END:STANDARD
END:VTIMEZONE
BEGIN:VEVENT
DTSTART;TZID=America/Los_Angeles:20260203T130000
DTEND;TZID=America/Los_Angeles:20260203T143000
DTSTAMP:20260421T064108
CREATED:20251212T084451Z
LAST-MODIFIED:20260202T222942Z
UID:10003334-1770123600-1770129000@www.childrenscabinet.org
SUMMARY:NV Pyramid Model Introduction for QRIS Programs
DESCRIPTION:**REMINDER PLEASE CHECK YOUR CONFIRMATION EMAIL FOR ZOOM LINK **\n\n\nInstructor: Minerva Perez \nNevada Registry Approved: 1.5 Hours \nCKA: Positive Interactions & Guidance \nThis session provides an overview of Nevada’s State Policy on Early Childhood Expulsion and Suspension. We will review how the QRIS and Pyramid Model Programs align to support providers in finding strategies to decrease challenging behaviors in the classroom and to reduce exclusionary practices for our young children. \nTraining Objectives: \n1 . Identify QRIS and Pyramid Model Programs and how they each can support a center. \n2 . Define suspension\, expulsion and other exclusionary practices. \n3 . Apply knowledge of form and function of behavior to prevent exclusionary practices. \nEach professional development session offered by The Children’s Cabinet utilizes a knowledge check to ensure that our participants understand our training objectives and our instructors are providing a comprehensive learning experience. You can expect to receive a three question quiz or test at the end of each training. If you have questions or concerns\, or need additional information about this process\, feel free to contact the Professional Development Training Coordinator at 702-245-8555. \n \nFor a copy of your records or personal identifiable information\, please direct requests to: \nProfessional Development Team\, Attn: ProgramAssistant \ntraininglv@childrenscabinet.org \nFor more information on your security and privacy\, please visit our full policy by scanning the QR in the participant policy notice below.
URL:https://www.childrenscabinet.org/event/nv-pyramid-model-introduction-for-qris-programs/
CATEGORIES:Childcare Provider
ATTACH;FMTTYPE=image/jpeg:https://www.childrenscabinet.org/wp-content/uploads/2025/09/81ea19eda1551f287ce20a1d05460af8-xH2R9i.tmp_.jpg
END:VEVENT
END:VCALENDAR