BEGIN:VCALENDAR
VERSION:2.0
PRODID:-//Children&#039;s Cabinet - ECPv6.15.17//NONSGML v1.0//EN
CALSCALE:GREGORIAN
METHOD:PUBLISH
X-ORIGINAL-URL:https://www.childrenscabinet.org
X-WR-CALDESC:Events for Children&#039;s Cabinet
REFRESH-INTERVAL;VALUE=DURATION:PT1H
X-Robots-Tag:noindex
X-PUBLISHED-TTL:PT1H
BEGIN:VTIMEZONE
TZID:America/Los_Angeles
BEGIN:DAYLIGHT
TZOFFSETFROM:-0800
TZOFFSETTO:-0700
TZNAME:PDT
DTSTART:20250309T100000
END:DAYLIGHT
BEGIN:STANDARD
TZOFFSETFROM:-0700
TZOFFSETTO:-0800
TZNAME:PST
DTSTART:20251102T090000
END:STANDARD
BEGIN:DAYLIGHT
TZOFFSETFROM:-0800
TZOFFSETTO:-0700
TZNAME:PDT
DTSTART:20260308T100000
END:DAYLIGHT
BEGIN:STANDARD
TZOFFSETFROM:-0700
TZOFFSETTO:-0800
TZNAME:PST
DTSTART:20261101T090000
END:STANDARD
BEGIN:DAYLIGHT
TZOFFSETFROM:-0800
TZOFFSETTO:-0700
TZNAME:PDT
DTSTART:20270314T100000
END:DAYLIGHT
BEGIN:STANDARD
TZOFFSETFROM:-0700
TZOFFSETTO:-0800
TZNAME:PST
DTSTART:20271107T090000
END:STANDARD
END:VTIMEZONE
BEGIN:VEVENT
DTSTART;TZID=America/Los_Angeles:20260204T090000
DTEND;TZID=America/Los_Angeles:20260304T103000
DTSTAMP:20260423T034641
CREATED:20260130T221907Z
LAST-MODIFIED:20260303T094439Z
UID:10003418-1770195600-1772620200@www.childrenscabinet.org
SUMMARY:Childcare Tax Readiness
DESCRIPTION:1.5 hrs. online training. Please check your confirmation email for the ZOOM link.\n\n\nNevada Registry Approved: 1.5 hours \nInstructor: Shanita Jones \nCKA:  \nLearning Event Sumary: Management & Administration \nThis class guides participants in identifying required business tax documents\, distinguishing personal versus business expenses\, and learning key questions to ask a tax preparer to ensure accurate filing\, compliance\, and informed financial decisions. \nLearning Outcomes: \n•Currently no classes are offered related to tax preparation \n•A tax class will supplement the SBP modules \n•Increase knowledge around tax preparation in the childcare field \n \nEach professional development session offered by The Children’s Cabinet utilizes a knowledge check to ensure that our participants understand our training objectives and our instructors are providing a comprehensive learning experience. You can expect to receive a three question quiz or test at the end of each training. If you have questions or concerns\, or need additional information about this process\, feel free to contact the Professional Development Training Coordinator at 702-245-8555. \n \nFor a copy of your records or personal identifiable information\, please direct requests to: \nProfessional Development Team\, Attn: Program Assistanttraininglv@childrenscabinet.org \nFor more information on your security and privacy\, please visit our full policy by scanning the QR in the participant policy notice below.
URL:https://www.childrenscabinet.org/event/childcare-tax-readiness/
CATEGORIES:Childcare Provider
ATTACH;FMTTYPE=image/jpeg:https://www.childrenscabinet.org/wp-content/uploads/2025/02/c634e1c404b05da1bd1a42e96b5b43ea-85HWBI.tmp_.jpg
END:VEVENT
BEGIN:VEVENT
DTSTART;TZID=America/Los_Angeles:20260211T090000
DTEND;TZID=America/Los_Angeles:20260211T103000
DTSTAMP:20260423T034641
CREATED:20260130T221910Z
LAST-MODIFIED:20260210T171450Z
UID:10003419-1770800400-1770805800@www.childrenscabinet.org
SUMMARY:Get Organized for Tax Season: What to Gather & Why it Matters
DESCRIPTION:1.5 hrs. online training. Please check your confirmation email for the ZOOM link.\n\n\nNevada Registry Approved: 1.5 hours \nInstructor: Shanita Jones \nCKA: \nLearning Event Sumary: Management & Administration \nThis class helps participants identify essential tax records\, understand how clean bookkeeping supports accurate tax preparation and audit protection\, and create a simple filing or document storage system to stay organized and compliant year-round. \nLearning Outcomes: \n•Currently no classes are offered related to tax preparation \n•A tax class will supplement the SBP modules \n•Increase knowledge around tax preparation in the child care field \n \nEach professional development session offered by The Children’s Cabinet utilizes a knowledge check to ensure that our participants understand our training objectives and our instructors are providing a comprehensive learning experience. You can expect to receive a three question quiz or test at the end of each training. If you have questions or concerns\, or need additional information about this process\, feel free to contact the Professional Development Training Coordinator at 702-245-8555. \n \nFor a copy of your records or personal identifiable information\, please direct requests to: \nProfessional Development Team\, Attn: Program Assistanttraininglv@childrenscabinet.org \nFor more information on your security and privacy\, please visit our full policy by scanning the QR in the participant policy notice below.
URL:https://www.childrenscabinet.org/event/get-organized-for-tax-season-what-to-gather-why-it-matters/
CATEGORIES:Childcare Provider
ATTACH;FMTTYPE=image/jpeg:https://www.childrenscabinet.org/wp-content/uploads/2025/02/c634e1c404b05da1bd1a42e96b5b43ea-85HWBI.tmp_.jpg
END:VEVENT
BEGIN:VEVENT
DTSTART;TZID=America/Los_Angeles:20260211T180000
DTEND;TZID=America/Los_Angeles:20260211T200000
DTSTAMP:20260423T034641
CREATED:20251215T221017Z
LAST-MODIFIED:20260210T171451Z
UID:10003394-1770832800-1770840000@www.childrenscabinet.org
SUMMARY:Building a Dictionary: Expanding Preschoolers’ Vocabularies
DESCRIPTION:**REMINDER PLEASE CHECK YOUR CONFIRMATION EMAIL FOR ZOOM LINK **\n\n\nInstructor: Kelsie Porter \nNevada Registry Approved:  2.0 Hours \nCKA: Environment & Curriculum \nApplicable Nevada Pre-K Standards and ECERS items will be discussed. We will go over why it’s important to build vocabulary in ECE settings through information on child development and the word gap study. We will also go over strategies for using words and practice them throughout. \nTraining Objectives: \n1 . By the end of this session\, learners will describe the importance of building preschoolers’ vocabularies. \n2 . By the end of this session\, learners will list three ways to incorporate words into their practice. \n3 . By the end of this session\, learners will demonstrate a strategy to use in their practice. \nEach professional development session offered by The Children’s Cabinet utilizes a knowledge check to ensure that our participants understand our training objectives and our instructors are providing a comprehensive learning experience. You can expect to receive a three question quiz or test at the end of each training. If you have questions or concerns\, or need additional information about this process\, feel free to contact the Professional Development Training Coordinator at 775-856-6200. \n \nFor a copy of your records or personal identifiable information\, please direct requests to: \nProfessional Development Team\, Attn: ProgramAssistant \ncabtraining2@childrenscabinet.org \nFor more information on your security and privacy\, please visit our full policy by scanning the QR in the participant policy notice below.
URL:https://www.childrenscabinet.org/event/building-a-dictionary-expanding-preschoolers-vocabularies-3/
CATEGORIES:Childcare Provider
ATTACH;FMTTYPE=image/jpeg:https://www.childrenscabinet.org/wp-content/uploads/2025/09/f6add92d67405e25824b757ab3fbcd28-zoBVlD.tmp_.jpg
END:VEVENT
BEGIN:VEVENT
DTSTART;TZID=America/Los_Angeles:20260211T180000
DTEND;TZID=America/Los_Angeles:20260211T200000
DTSTAMP:20260423T034641
CREATED:20251216T093010Z
LAST-MODIFIED:20260211T044448Z
UID:10003405-1770832800-1770840000@www.childrenscabinet.org
SUMMARY:Teaching Social and Emotional Skills-CANCELLED
DESCRIPTION:In Person\n\n\nInstructor: Janna Mason \nNevada Registry Approved: 2.0 Hours \nCKA: Positive Interactions & Guidance \nLearners will be exposed to the key points involved in teaching young children social and emotional skills. Learners will have hands on time with tools that teach young children social and emotional skills. Learners will create an action plan to put their learning into practice in their classroom. \nTraining Objectives: \n1 . Learners will implement new strategies to increase nurturing and responsive relationships and high-quality supportive environments. \n2 . Learners will implement strategies in their classroom to teach young children friendships skills. \n3 . Learners will implement strategies in their classroom to teach young children problem solving. \n \nEach professional development session offered by The Children’s Cabinet utilizes a knowledge check to ensure that our participants understand our training objectives and our instructors are providing a comprehensive learning experience. You can expect to receive a three question quiz or test at the end of each training. If you have questions or concerns\, or need additional information about this process\, feel free to contact the Professional Development Training Coordinator at 775-856-6200. \n \nFor a copy of your records or personal identifiable information\, please direct requests to: \nProfessional Development Team\, Attn: Program Assistantcabtraining2@childrenscabinet.org \nFor more information on your security and privacy\, please visit our full policy by scanning the QR in the participant policy notice below.
URL:https://www.childrenscabinet.org/event/teaching-social-and-emotional-skills-3/
LOCATION:Milestones Early Childhood Learning Reno\, 6870 South McCarran Boulevard\, Reno\, NV\, 89509\, United States
CATEGORIES:Childcare Provider
ATTACH;FMTTYPE=image/jpeg:https://www.childrenscabinet.org/wp-content/uploads/2024/10/fd6b1534833ba548a4b7d85f7318d346-0PW2wc.tmp_.jpg
END:VEVENT
END:VCALENDAR