BEGIN:VCALENDAR
VERSION:2.0
PRODID:-//Children&#039;s Cabinet - ECPv6.15.17//NONSGML v1.0//EN
CALSCALE:GREGORIAN
METHOD:PUBLISH
X-ORIGINAL-URL:https://www.childrenscabinet.org
X-WR-CALDESC:Events for Children&#039;s Cabinet
REFRESH-INTERVAL;VALUE=DURATION:PT1H
X-Robots-Tag:noindex
X-PUBLISHED-TTL:PT1H
BEGIN:VTIMEZONE
TZID:America/Los_Angeles
BEGIN:DAYLIGHT
TZOFFSETFROM:-0800
TZOFFSETTO:-0700
TZNAME:PDT
DTSTART:20250309T100000
END:DAYLIGHT
BEGIN:STANDARD
TZOFFSETFROM:-0700
TZOFFSETTO:-0800
TZNAME:PST
DTSTART:20251102T090000
END:STANDARD
BEGIN:DAYLIGHT
TZOFFSETFROM:-0800
TZOFFSETTO:-0700
TZNAME:PDT
DTSTART:20260308T100000
END:DAYLIGHT
BEGIN:STANDARD
TZOFFSETFROM:-0700
TZOFFSETTO:-0800
TZNAME:PST
DTSTART:20261101T090000
END:STANDARD
BEGIN:DAYLIGHT
TZOFFSETFROM:-0800
TZOFFSETTO:-0700
TZNAME:PDT
DTSTART:20270314T100000
END:DAYLIGHT
BEGIN:STANDARD
TZOFFSETFROM:-0700
TZOFFSETTO:-0800
TZNAME:PST
DTSTART:20271107T090000
END:STANDARD
END:VTIMEZONE
BEGIN:VEVENT
DTSTART;TZID=America/Los_Angeles:20260124T090000
DTEND;TZID=America/Los_Angeles:20260124T100000
DTSTAMP:20260423T135140
CREATED:20251216T093008Z
LAST-MODIFIED:20260124T005952Z
UID:10003403-1769245200-1769248800@www.childrenscabinet.org
SUMMARY:What to Expect from Early Intervention Providers in the Classroom-CANCELLED
DESCRIPTION:In Person\n\n\nInstructor: Kyleigh Abittan \nNevada Registry Approved: 1 Hour \nCKA: Human Growth & Development \nChildcare centers will learn about Early intervention Services\, the model they use\, and early intervention providers’ expectations of the teachers when in the classroom. \nTraining Objectives: \n1 . By the end of this session\, learners will summarize why implementing a coaching model in childcares is impactful to teachers and student \n2 . By the end of this session\, learners will describe what a coaching model can look like in a classroom setting \n3 . By the end of this session\, learners will learn how early intervention providers support them in the classroom \n \nEach professional development session offered by The Children’s Cabinet utilizes a knowledge check to ensure that our participants understand our training objectives and our instructors are providing a comprehensive learning experience. You can expect to receive a three question quiz or test at the end of each training. If you have questions or concerns\, or need additional information about this process\, feel free to contact the Professional Development Training Coordinator at 775-856-6200. \n \nFor a copy of your records or personal identifiable information\, please direct requests to: \nProfessional Development Team\, Attn: Program Assistantcabtraining2@childrenscabinet.org \nFor more information on your security and privacy\, please visit our full policy by scanning the QR in the participant policy notice below.
URL:https://www.childrenscabinet.org/event/what-to-expect-from-early-intervention-providers-in-the-classroom/
LOCATION:Nevada Strong Start Child Care Services Center\, 961 Matley Lane Suite 110\, Reno\, NV\, 89502\, United States
CATEGORIES:Childcare Provider
ATTACH;FMTTYPE=image/jpeg:https://www.childrenscabinet.org/wp-content/uploads/2024/10/2e3c1e5201278c0cd3afa1196777cffd-1eudvL.tmp_.jpg
END:VEVENT
BEGIN:VEVENT
DTSTART;TZID=America/Los_Angeles:20260124T090000
DTEND;TZID=America/Los_Angeles:20260124T110000
DTSTAMP:20260423T135140
CREATED:20251212T161444Z
LAST-MODIFIED:20260124T052955Z
UID:10003338-1769245200-1769252400@www.childrenscabinet.org
SUMMARY:Home and Heart: NAEYC - Family and Educators Together
DESCRIPTION:This is an in person training\n\n\nInstructor: Constance Tomaneng \nNevada Registry Approved: 2.0 hours \nCKA: Family & Community Relationships \nGain an understanding of the relevance and importance of a family engagement system within their early childhood educational environment. Learn ways to create a healthy foundation for teacher and educator relationships and to apply it to the classroom environment by using NAEYC’s guide with real life examples. \nTraining Objectives: \n1 .Participants will understand concepts of importance of family engagement for the ECE environment. \n2 .Participants will learn how to incorporate NAEYC policies and strategies to improve or create a Family Engagement system. \n3 .Participants will learn how to promote this engagement system within their curriculum socially and academically. \n \nEach professional development session offered by The Children’s Cabinet utilizes a knowledge check to ensure that our participants understand our training objectives and our instructors are providing a comprehensive learning experience. You can expect to receive a three question quiz or test at the end of each training. If you have questions or concerns\, or need additional information about this process\, feel free to contact the Professional Development Training Coordinator at 702-825-8978 \nFor a copy of your records or personal identifiable information\, please direct requests to: \nProfessional Development Team\, Attn: Program Assistanttraininglv@childrenscabnet.org \n \nFor more information on your security and privacy\, please visit our full policy by scanning the QR in the participant policy notice below.
URL:https://www.childrenscabinet.org/event/home-and-heart-naeyc-family-and-educators-together/
LOCATION:Las Vegas The Children’s Cabinet\, 5905 S. Decatur Blvd. Ste. 13\, Las Vegas\, NV\, 89118\, United States
CATEGORIES:Childcare Provider
ATTACH;FMTTYPE=image/jpeg:https://www.childrenscabinet.org/wp-content/uploads/2023/06/21ea6f375090e5693f5fa4ce4a98ec2f-gbbxUH.tmp_.jpg
END:VEVENT
BEGIN:VEVENT
DTSTART;TZID=America/Los_Angeles:20260124T113000
DTEND;TZID=America/Los_Angeles:20260124T133000
DTSTAMP:20260423T135140
CREATED:20251213T161459Z
LAST-MODIFIED:20260124T205301Z
UID:10003385-1769254200-1769261400@www.childrenscabinet.org
SUMMARY:Introducción del Modelo Pirámide y Soluciones Positivas
DESCRIPTION:This is an in-person training\n\n\nInstructor:  Minerva Perez \nNevada Registry Approved: 2.0 hours \nCKA: Positive Interactions and Guidance \nLos participantes tendrán un mayor entendimiento de cómo aplicar las Prácticas del Modelo de la Pirámide. \nTraining Objectives: \nBy the end of the session… \n•Los participantes tendrán un mayor entendimiento de cómo aplicar las Prácticas del Modelo de la Pirámide. \n•Los participantes tendrán un mayor entendimiento de cómo aplicar la Pirámide cuando se enfrentan a comportamientos desafiantes. \n•Los participantes podrán ayudar a las familias cuando sus hijos presenten comportamientos desafiantes utilizando estrategias del Modelo de la Pirámide \nEach professional development session offered by The Children’s Cabinet utilizes a knowledge check to ensure that our participants understand our training objectives and our instructors are providing a comprehensive learning experience. You can expect to receive a three question quiz or test at the end of each training. If you have questions or concerns\, or need additional information about this process\, feel free to contact the Professional Development Training Coordinator at 702-825-8978. \n \nFor a copy of your records or personal identifiable information\, please direct requests to: \nProgram Assistant\, The Children’s Cabinet Professional Development Teamtraininglv@childrenscabinet.org. \nFor more information on your security and privacy\, please visit our full policy by scanning the QR in the participant policy notice below.
URL:https://www.childrenscabinet.org/event/introduccion-del-modelo-piramide-y-soluciones-positivas/
LOCATION:Las Vegas The Children’s Cabinet\, 5905 S. Decatur Blvd. Ste. 13\, Las Vegas\, NV\, 89118\, United States
CATEGORIES:Childcare Provider
ATTACH;FMTTYPE=image/jpeg:https://www.childrenscabinet.org/wp-content/uploads/2023/06/670690d94e1d61ee55c93973db1fd243-OnSI0i.tmp_.jpg
END:VEVENT
END:VCALENDAR