BEGIN:VCALENDAR
VERSION:2.0
PRODID:-//Children&#039;s Cabinet - ECPv6.15.17//NONSGML v1.0//EN
CALSCALE:GREGORIAN
METHOD:PUBLISH
X-WR-CALNAME:Children&#039;s Cabinet
X-ORIGINAL-URL:https://www.childrenscabinet.org
X-WR-CALDESC:Events for Children&#039;s Cabinet
REFRESH-INTERVAL;VALUE=DURATION:PT1H
X-Robots-Tag:noindex
X-PUBLISHED-TTL:PT1H
BEGIN:VTIMEZONE
TZID:America/Los_Angeles
BEGIN:DAYLIGHT
TZOFFSETFROM:-0800
TZOFFSETTO:-0700
TZNAME:PDT
DTSTART:20240310T100000
END:DAYLIGHT
BEGIN:STANDARD
TZOFFSETFROM:-0700
TZOFFSETTO:-0800
TZNAME:PST
DTSTART:20241103T090000
END:STANDARD
BEGIN:DAYLIGHT
TZOFFSETFROM:-0800
TZOFFSETTO:-0700
TZNAME:PDT
DTSTART:20250309T100000
END:DAYLIGHT
BEGIN:STANDARD
TZOFFSETFROM:-0700
TZOFFSETTO:-0800
TZNAME:PST
DTSTART:20251102T090000
END:STANDARD
BEGIN:DAYLIGHT
TZOFFSETFROM:-0800
TZOFFSETTO:-0700
TZNAME:PDT
DTSTART:20260308T100000
END:DAYLIGHT
BEGIN:STANDARD
TZOFFSETFROM:-0700
TZOFFSETTO:-0800
TZNAME:PST
DTSTART:20261101T090000
END:STANDARD
END:VTIMEZONE
BEGIN:VEVENT
DTSTART;TZID=America/Los_Angeles:20250122T100000
DTEND;TZID=America/Los_Angeles:20250122T113000
DTSTAMP:20260422T050407
CREATED:20250113T200843Z
LAST-MODIFIED:20250122T001252Z
UID:10002950-1737540000-1737545400@www.childrenscabinet.org
SUMMARY:Momentos Mágicos con Libros
DESCRIPTION:This is an in-person  class at the Mexican Consulate\n\n\nThis is an in-person class \nTotal Hours: 1.5 \n¡Únase a nuestra clase de alfabetización infantil y embárquese en un viaje lleno de historias\, aprendizaje y diversión! Todos los niños recibirán un libro gratis. Abierto a familias con niños de 2 a 5 años de edad. \n \nInstructor: Ivett Nunez \n \nFor a copy of your records or personal identifiable information\, please direct requests to: \nProfessional Development Team\, Attn: Program Assistantcabtraining2@childrenscabinet.org \nFor more information on your security and privacy\, please visit our full policy by scanning the QR in the participant policy notice below.
URL:https://www.childrenscabinet.org/event/momentos-magicos-con-libros/
LOCATION:Consulate of Mexico in Las Vegas\, 823 South 6th Street\, Las Vegas\, NV\, 89101\, United States
CATEGORIES:Parenting
ATTACH;FMTTYPE=image/jpeg:https://www.childrenscabinet.org/wp-content/uploads/2025/01/120463bfa21d70d81e00399d8f3c53a0-nf5B6I.tmp_.jpg
END:VEVENT
BEGIN:VEVENT
DTSTART;TZID=America/Los_Angeles:20250122T180000
DTEND;TZID=America/Los_Angeles:20250122T193000
DTSTAMP:20260422T050407
CREATED:20250113T200845Z
LAST-MODIFIED:20250122T001253Z
UID:10002951-1737568800-1737574200@www.childrenscabinet.org
SUMMARY:VROOM: Brain Building Strategies for Identity Development
DESCRIPTION:This is an in-person  class at  Nevada Strong Start Child Care Services Center.\n\n\nThis is an in-person class \nTotal Hours: 1.5 \nJoin us for a transformative class designed for parents eager to support their child’s identity development! This session will explore the critical brain development that occurs in early childhood and how it relates to forming a healthy sense of self. You’ll learn practical strategies to help your family foster confidence\, self-awareness\, and emotional resilience in your young children. (This is a 1.5 hour class)  \nInstructor: Hannah West \nFor a copy of your records or personal identifiable information\, please direct requests to: \nProfessional Development Team\, Attn: Program Assistantcabtraining2@childrenscabinet.org \nFor more information on your security and privacy\, please visit our full policy by scanning the QR in the participant policy notice below.
URL:https://www.childrenscabinet.org/event/vroom-brain-building-strategies-for-identity-development/
LOCATION:Nevada Strong Start Child Care Services Center\, 961 Matley Lane Suite 110\, Reno\, NV\, 89502\, United States
CATEGORIES:Parenting
ATTACH;FMTTYPE=image/jpeg:https://www.childrenscabinet.org/wp-content/uploads/2024/10/85b53c2c1e5be582d64886809054820b-rBjgar.tmp_.jpg
END:VEVENT
END:VCALENDAR