BEGIN:VCALENDAR
VERSION:2.0
PRODID:-//Children&#039;s Cabinet - ECPv6.15.17//NONSGML v1.0//EN
CALSCALE:GREGORIAN
METHOD:PUBLISH
X-WR-CALNAME:Children&#039;s Cabinet
X-ORIGINAL-URL:https://www.childrenscabinet.org
X-WR-CALDESC:Events for Children&#039;s Cabinet
REFRESH-INTERVAL;VALUE=DURATION:PT1H
X-Robots-Tag:noindex
X-PUBLISHED-TTL:PT1H
BEGIN:VTIMEZONE
TZID:America/Los_Angeles
BEGIN:DAYLIGHT
TZOFFSETFROM:-0800
TZOFFSETTO:-0700
TZNAME:PDT
DTSTART:20240310T100000
END:DAYLIGHT
BEGIN:STANDARD
TZOFFSETFROM:-0700
TZOFFSETTO:-0800
TZNAME:PST
DTSTART:20241103T090000
END:STANDARD
BEGIN:DAYLIGHT
TZOFFSETFROM:-0800
TZOFFSETTO:-0700
TZNAME:PDT
DTSTART:20250309T100000
END:DAYLIGHT
BEGIN:STANDARD
TZOFFSETFROM:-0700
TZOFFSETTO:-0800
TZNAME:PST
DTSTART:20251102T090000
END:STANDARD
BEGIN:DAYLIGHT
TZOFFSETFROM:-0800
TZOFFSETTO:-0700
TZNAME:PDT
DTSTART:20260308T100000
END:DAYLIGHT
BEGIN:STANDARD
TZOFFSETFROM:-0700
TZOFFSETTO:-0800
TZNAME:PST
DTSTART:20261101T090000
END:STANDARD
END:VTIMEZONE
BEGIN:VEVENT
DTSTART;TZID=America/Los_Angeles:20250127T180000
DTEND;TZID=America/Los_Angeles:20250127T200000
DTSTAMP:20260422T033050
CREATED:20250113T200846Z
LAST-MODIFIED:20250127T052706Z
UID:10002952-1738000800-1738008000@www.childrenscabinet.org
SUMMARY:The Early Childhood Conversation about LGBTQIA
DESCRIPTION:**REMINDER PLEASE CHECK YOUR EMAIL FOR ZOOM LINK**\n\n\nTHIS IS A LIVE ONLINE WEBINAR \nTotal Hours: 2.0 \nThis program provides a frank discussion of LGBTQIA children and their development; the effects on parenting\, as well as providing a clearer understanding of your child’s gender developmental milestones\, including basic definitions of the LGBTQIA community\, and parenting strategies to support your child as they develop into self-assured\, confident adults. (This is a 2-hour program intended for those parenting children of all ages.) \nInstructor: Jay Cafferata \nFor a copy of your records or personal identifiable information\, please direct requests to: \nProfessional Development Team\, Attn: Program Assistantcabtraining2@childrenscabinet.org \nFor more information on your security and privacy\, please visit our full policy by scanning the QR in the participant policy notice below.
URL:https://www.childrenscabinet.org/event/the-early-childhood-conversation-about-lgbtqia/
LOCATION:NV
CATEGORIES:Parenting
ATTACH;FMTTYPE=image/jpeg:https://www.childrenscabinet.org/wp-content/uploads/2025/01/ae56dcc7bb4fc9f661bcff6290f282bd-jA3uIN.tmp_.jpg
END:VEVENT
BEGIN:VEVENT
DTSTART;TZID=America/Los_Angeles:20250128T180000
DTEND;TZID=America/Los_Angeles:20250128T200000
DTSTAMP:20260422T033050
CREATED:20250113T200847Z
LAST-MODIFIED:20250128T052722Z
UID:10002953-1738087200-1738094400@www.childrenscabinet.org
SUMMARY:Parenting 401: Building Up Your Child's Courage and Self-Esteem
DESCRIPTION:**REMINDER PLEASE CHECK YOUR EMAIL FOR ZOOM LINK**\n\n\nTHIS IS A LIVE ONLINE WEBINAR \nTotal Hours: 2.0 \nPreparing a child to courageously meet the challenges that life offers is perhaps the single most important aspect of parenting. In this class\, we will discuss how you can help your child develop self-confidence and self-esteem. We will talk about a simple\, yet effective and proven model of problem-solving\, while helping you prevent the need to always take over and “save” your kid. (This is a 2-hour program intended for those with children ages 6-12 years.) \nInstructor: Thelma Aviles \nFor a copy of your records or personal identifiable information\, please direct requests to: \nProfessional Development Team\, Attn: Program Assistantcabtraining2@childrenscabinet.org \nFor more information on your security and privacy\, please visit our full policy by scanning the QR in the participant policy notice below.
URL:https://www.childrenscabinet.org/event/parenting-401-building-up-your-childs-courage-and-self-esteem/
LOCATION:NV
CATEGORIES:Parenting
ATTACH;FMTTYPE=image/jpeg:https://www.childrenscabinet.org/wp-content/uploads/2025/01/5a2dfebb56fbbe1c42dcf7524d9e0ceb-sKbxE0.tmp_.jpg
END:VEVENT
BEGIN:VEVENT
DTSTART;TZID=America/Los_Angeles:20250131T090000
DTEND;TZID=America/Los_Angeles:20250131T163000
DTSTAMP:20260422T033050
CREATED:20250113T200927Z
LAST-MODIFIED:20250131T121149Z
UID:10002981-1738314000-1738341000@www.childrenscabinet.org
SUMMARY:Youth Mental Health First Aid (YMHFA) Training
DESCRIPTION:These classes are designed to teach caring adults how to help adolescents who are experiencing mental health\, addiction\, or are in crisis.\n\n\nThese classes are designed to teach parents\, mentors\, teachers\, coaches\, health and human services workers\, and other caring citizens how to help adolescents (age 12-18) who are experiencing mental health\, addiction\, or are in crisis. Anyone interested can sign up for a one-day training session. \nThe course introduces common mental health challenges for youth\, reviews typical adolescent development\, and teaches a 5-step action plan to help young people in both crisis and non-crisis situations. Topics covered include anxiety\, depression\, substance use\, disorders in which psychosis may occur\, disruptive behavior disorders (including AD/HD)\, and eating disorders. Each year\, thousands of people are trained to provide CPR first aid\, so we encourage everyone to be ready for a possible mental health crisis and connect those struggling with mental health with the help they all deserve. \nPrior to the instructor-led class\, all participants must complete course pre-work that can be accomplished online. If you are signed up for a course\, you will receive an email with links to the pre-work\, a link to the pre-test\, and how to access the course online. \nSpanish and group trainings are available upon request. Please contact Kimberly Hargrove for more information: KHargrove@childrenscabinet.org.
URL:https://www.childrenscabinet.org/event/youth-mental-health-first-aid-ymhfa-training-6/
LOCATION:Children’s Cabinet\, May Building\, 777 Sinclair Street\, Reno\, NV\, 89501\, United States
CATEGORIES:Community,Parenting
ATTACH;FMTTYPE=image/jpeg:https://www.childrenscabinet.org/wp-content/uploads/2025/01/7a609e7bc6d896ff6598f4e1ec4c24d1-QI8SkA.tmp_.jpg
END:VEVENT
BEGIN:VEVENT
DTSTART;TZID=America/Los_Angeles:20250131T100000
DTEND;TZID=America/Los_Angeles:20250131T120000
DTSTAMP:20260422T033050
CREATED:20250113T200848Z
LAST-MODIFIED:20250131T001224Z
UID:10002954-1738317600-1738324800@www.childrenscabinet.org
SUMMARY:STEM
DESCRIPTION:This is an in-person  class at The Children’s Cabinet.\n\n\nThis is an in-person class \nTotal Hours: 2.0 \nThe Children’s Cabinet provides a free 2-hour STEM class where participants (parents and children) will engage in several different STEM activities and experiments. Eligible participants: Parents with children ages 3-5 years old. \n \nInstructor: Jazmin Slappy
URL:https://www.childrenscabinet.org/event/stem/
LOCATION:Las Vegas The Children’s Cabinet\, 5905 S. Decatur Blvd. Ste. 13\, Las Vegas\, NV\, 89118\, United States
CATEGORIES:Parenting
ATTACH;FMTTYPE=image/jpeg:https://www.childrenscabinet.org/wp-content/uploads/2025/01/17a1bbd1a6d88a5759d39f956fd41545-N6AtmY.tmp_.jpg
END:VEVENT
END:VCALENDAR