BEGIN:VCALENDAR
VERSION:2.0
PRODID:-//Children&#039;s Cabinet - ECPv6.15.17//NONSGML v1.0//EN
CALSCALE:GREGORIAN
METHOD:PUBLISH
X-ORIGINAL-URL:https://www.childrenscabinet.org
X-WR-CALDESC:Events for Children&#039;s Cabinet
REFRESH-INTERVAL;VALUE=DURATION:PT1H
X-Robots-Tag:noindex
X-PUBLISHED-TTL:PT1H
BEGIN:VTIMEZONE
TZID:America/Los_Angeles
BEGIN:DAYLIGHT
TZOFFSETFROM:-0800
TZOFFSETTO:-0700
TZNAME:PDT
DTSTART:20250309T100000
END:DAYLIGHT
BEGIN:STANDARD
TZOFFSETFROM:-0700
TZOFFSETTO:-0800
TZNAME:PST
DTSTART:20251102T090000
END:STANDARD
BEGIN:DAYLIGHT
TZOFFSETFROM:-0800
TZOFFSETTO:-0700
TZNAME:PDT
DTSTART:20260308T100000
END:DAYLIGHT
BEGIN:STANDARD
TZOFFSETFROM:-0700
TZOFFSETTO:-0800
TZNAME:PST
DTSTART:20261101T090000
END:STANDARD
BEGIN:DAYLIGHT
TZOFFSETFROM:-0800
TZOFFSETTO:-0700
TZNAME:PDT
DTSTART:20270314T100000
END:DAYLIGHT
BEGIN:STANDARD
TZOFFSETFROM:-0700
TZOFFSETTO:-0800
TZNAME:PST
DTSTART:20271107T090000
END:STANDARD
END:VTIMEZONE
BEGIN:VEVENT
DTSTART;TZID=America/Los_Angeles:20260413T180000
DTEND;TZID=America/Los_Angeles:20260413T200000
DTSTAMP:20260420T105208
CREATED:20260312T153016Z
LAST-MODIFIED:20260413T081601Z
UID:10003486-1776103200-1776110400@www.childrenscabinet.org
SUMMARY:Positive Solutions for Families Session 1: Making the Connection
DESCRIPTION:**REMINDER PLEASE CHECK YOUR EMAIL FOR ZOOM LINK**\n\n\nTHIS IS A LIVE ONLINE WEBINAR \nTotal Hours: 2.0 \nMeet each other and learn about our families. Discuss the purpose of the group. Discuss ground rules we might have for our group. Discuss the role families have in promoting their child’s socialemotional development. Identify the importance of building positive relationships with children. ( 2-hour program) \nInstructor: Cathy Mello \nFor a copy of your records or personal identifiable information\, please direct requests to: \nProfessional Development Team\, Attn: Program Assistant cabtraining2@childrenscabinet.org \nFor more information on your security and privacy\, please visit our full policy by scanning the QR in the participant policy notice below.
URL:https://www.childrenscabinet.org/event/positive-solutions-for-families-session-1-making-the-connection-5/
LOCATION:NV
CATEGORIES:Parenting
ATTACH;FMTTYPE=image/jpeg:https://www.childrenscabinet.org/wp-content/uploads/2025/09/202a5d4158d2f6b6be49450ebfba045b-Rhdy25.tmp_.jpg
END:VEVENT
BEGIN:VEVENT
DTSTART;TZID=America/Los_Angeles:20260414T180000
DTEND;TZID=America/Los_Angeles:20260414T200000
DTSTAMP:20260420T105208
CREATED:20260312T153017Z
LAST-MODIFIED:20260413T081604Z
UID:10003487-1776189600-1776196800@www.childrenscabinet.org
SUMMARY:Active Parenting 201: Helping Your Kids Learn Good Communication
DESCRIPTION:This is an in-person class at Nevada Strong Start Child Care Services Center.\n\n\nThis is an in-person class \nTotal Hours:  2.0 \nWhen people work together cooperatively\, problems are solved. A child who learns to work cooperatively with others has a far greater chance of success than a child who stands alone. This class will help you develop the skills for teaching cooperation and good communication to your child. We will discuss how to help our kids recognize and solve common problems using sound communication skills (e.g.\, Active Listening\, responding to feelings\, looking for alternatives\, offering encouragement\, and follow-up). (2-hour program) \n \nInstructor: Thelma Aviles
URL:https://www.childrenscabinet.org/event/active-parenting-201-helping-your-kids-learn-good-communication-3/
LOCATION:Nevada Strong Start Child Care Services Center\, 961 Matley Lane Suite 110\, Reno\, NV\, 89502\, United States
CATEGORIES:Parenting
ATTACH;FMTTYPE=image/jpeg:https://www.childrenscabinet.org/wp-content/uploads/2023/03/c80223d296cb8f21c1f2cd0940b8257e-B0T1Zk.tmp_.jpg
END:VEVENT
BEGIN:VEVENT
DTSTART;TZID=America/Los_Angeles:20260415T103000
DTEND;TZID=America/Los_Angeles:20260415T120000
DTSTAMP:20260420T105208
CREATED:20260311T075959Z
LAST-MODIFIED:20260413T081605Z
UID:10003440-1776249000-1776254400@www.childrenscabinet.org
SUMMARY:Brain Building Moments with Vroom
DESCRIPTION:This is an in-person class at Family 2 Family Connection\n\n\nThis is an in-person class \nTotal Hours: 1.5 \nVroom Workshop reinforces the knowledge of early brain development\, teaches how to turn everyday moments into brain bulding moments\, and encourages adults to have fun while trying some vroom tips with their Children.Each activity session is designed  for parents with children ages 3-5 years old \nInstructor: Monica Acevedo \n \nFor a copy of your records or personal identifiable information\, please direct requests to: \nProfessional Development Team\, Attn: Program Assistant \ntraininglv@childrenscabinet.org \n \nFor more information on your security and privacy\, please visit our full policy by scanning the QR in the participant policy notice below.
URL:https://www.childrenscabinet.org/event/brain-building-moments-with-vroom/
LOCATION:Family 2 Family Connection\, 3900 Cambridge Street\, #107\, Las Vegas\, NV\, 89119\, United States
CATEGORIES:Parenting
ATTACH;FMTTYPE=image/jpeg:https://www.childrenscabinet.org/wp-content/uploads/2024/10/83f7b1211aa06981397fc6381c54057d-hz0bUo.tmp_.jpg
END:VEVENT
BEGIN:VEVENT
DTSTART;TZID=America/Los_Angeles:20260415T180000
DTEND;TZID=America/Los_Angeles:20260415T200000
DTSTAMP:20260420T105208
CREATED:20260312T153019Z
LAST-MODIFIED:20260413T081606Z
UID:10003488-1776276000-1776283200@www.childrenscabinet.org
SUMMARY:Positive Behavior Supports for Parents
DESCRIPTION:This is an in-person class at Nevada Strong Start Child Care Services Center.\n\n\nThis is an in-person class \nTotal Hours: 2.0 \nLearn effective\, evidence-based strategies to encourage positive behavior and reduce challenging behaviors at home. This class will help parents understand the “why” behind behavior and teach proactive tools grounded in Positive Behavior Support (PBS). Build stronger routines\, improve communication\, and foster a more peaceful and cooperative home environment. 2 hr. class \nInstructor: Stephanie Nightingale \nFor a copy of your records or personal identifiable information\, please direct requests to: \nProfessional Development Team\, Attn: Program Assistant cabtraining2@childrenscabinet.org \nFor more information on your security and privacy\, please visit our full policy by scanning the QR in the participant policy notice below.
URL:https://www.childrenscabinet.org/event/positive-behavior-supports-for-parents-3/
LOCATION:Nevada Strong Start Child Care Services Center Reno\, 961 Matley Lane\, ## 110\, Reno\, NV\, 89502\, United States
CATEGORIES:Parenting
ATTACH;FMTTYPE=image/jpeg:https://www.childrenscabinet.org/wp-content/uploads/2025/12/ef78a5aae42f478e8854ebcfbaf7afee-Cw1rqa.tmp_.jpg
END:VEVENT
BEGIN:VEVENT
DTSTART;TZID=America/Los_Angeles:20260417T090000
DTEND;TZID=America/Los_Angeles:20260417T170000
DTSTAMP:20260420T105208
CREATED:20260328T114441Z
LAST-MODIFIED:20260417T132931Z
UID:10003529-1776416400-1776445200@www.childrenscabinet.org
SUMMARY:Youth Mental Health First Aid (YMHFA) Training
DESCRIPTION:These classes are designed to teach caring adults how to help adolescents who are experiencing mental health\, addiction\, or are in crisis.\n\n\nThese classes are designed to teach parents\, mentors\, teachers\, coaches\, health and human services workers\, and other caring citizens how to help adolescents (age 12-18) who are experiencing mental health\, addiction\, or are in crisis. Anyone interested can sign up for a one-day training session. \nThe course introduces common mental health challenges for youth\, reviews typical adolescent development\, and teaches a 5-step action plan to help young people in both crisis and non-crisis situations. Topics covered include anxiety\, depression\, substance use\, disorders in which psychosis may occur\, disruptive behavior disorders (including AD/HD)\, and eating disorders. Each year\, thousands of people are trained to provide CPR first aid\, so we encourage everyone to be ready for a possible mental health crisis and connect those struggling with mental health with the help they all deserve. \nPrior to the in-person instructor-led class\, all participants must complete course pre-work that can be accomplished online. If you are signed up for a course\, you will receive an email with links to the pre-work\, a link to the pre-test\, and how to access the course online. \nSpanish and group trainings are available upon request. If you need to request any accomodations please contact Kimberly Hargrove for more information: KHargrove@childrenscabinet.org.
URL:https://www.childrenscabinet.org/event/youth-mental-health-first-aid-ymhfa-training-29/
LOCATION:Children’s Cabinet\, May Building\, 777 Sinclair Street\, Reno\, NV\, 89501\, United States
CATEGORIES:Community,Parenting
ATTACH;FMTTYPE=image/jpeg:https://www.childrenscabinet.org/wp-content/uploads/2025/01/7a609e7bc6d896ff6598f4e1ec4c24d1-QI8SkA.tmp_.jpg
END:VEVENT
END:VCALENDAR