BEGIN:VCALENDAR
VERSION:2.0
PRODID:-//Children&#039;s Cabinet - ECPv6.15.17//NONSGML v1.0//EN
CALSCALE:GREGORIAN
METHOD:PUBLISH
X-ORIGINAL-URL:https://www.childrenscabinet.org
X-WR-CALDESC:Events for Children&#039;s Cabinet
REFRESH-INTERVAL;VALUE=DURATION:PT1H
X-Robots-Tag:noindex
X-PUBLISHED-TTL:PT1H
BEGIN:VTIMEZONE
TZID:America/Los_Angeles
BEGIN:DAYLIGHT
TZOFFSETFROM:-0800
TZOFFSETTO:-0700
TZNAME:PDT
DTSTART:20230312T100000
END:DAYLIGHT
BEGIN:STANDARD
TZOFFSETFROM:-0700
TZOFFSETTO:-0800
TZNAME:PST
DTSTART:20231105T090000
END:STANDARD
BEGIN:DAYLIGHT
TZOFFSETFROM:-0800
TZOFFSETTO:-0700
TZNAME:PDT
DTSTART:20240310T100000
END:DAYLIGHT
BEGIN:STANDARD
TZOFFSETFROM:-0700
TZOFFSETTO:-0800
TZNAME:PST
DTSTART:20241103T090000
END:STANDARD
BEGIN:DAYLIGHT
TZOFFSETFROM:-0800
TZOFFSETTO:-0700
TZNAME:PDT
DTSTART:20250309T100000
END:DAYLIGHT
BEGIN:STANDARD
TZOFFSETFROM:-0700
TZOFFSETTO:-0800
TZNAME:PST
DTSTART:20251102T090000
END:STANDARD
END:VTIMEZONE
BEGIN:VEVENT
DTSTART;TZID=America/Los_Angeles:20241022T100000
DTEND;TZID=America/Los_Angeles:20241022T110000
DTSTAMP:20260424T071046
CREATED:20240913T234155Z
LAST-MODIFIED:20241022T094231Z
UID:10002401-1729591200-1729594800@www.childrenscabinet.org
SUMMARY:I'm Ready for K: Science
DESCRIPTION:This is an in-person  class at Family to Family Connection\n\n\nThis is an in-person class \nTotal Hours: 1.0 \nJoin us for a fun-filled playing and learning series designed for both you and your children. The “I’m Ready for K” series is designed for parents with children ages 3-5 years old. Parents will learn how to help their children acquire the necessary skills for kindergarten readiness. \nInstructor: Jazmin Slappy \n \nFor a copy of your records or personal identifiable information\, please direct requests to: \nProfessional Development Team\, Attn: Program Assistantcabtraining2@childrenscabinet.org \nFor more information on your security and privacy\, please visit our full policy by scanning the QR in the participant policy notice below.
URL:https://www.childrenscabinet.org/event/im-ready-for-k-science-3/
LOCATION:Family 2 Family Connection\, 3900 Cambridge Street\, #107\, Las Vegas\, NV\, 89119\, United States
CATEGORIES:Parenting
ATTACH;FMTTYPE=image/jpeg:https://www.childrenscabinet.org/wp-content/uploads/2024/10/0cfb992e78edccfcbc305f20e600354d-C9vBuS.tmp_.jpg
END:VEVENT
BEGIN:VEVENT
DTSTART;TZID=America/Los_Angeles:20241022T120000
DTEND;TZID=America/Los_Angeles:20241022T140000
DTSTAMP:20260424T071046
CREATED:20240912T234158Z
LAST-MODIFIED:20241021T221156Z
UID:10002897-1729598400-1729605600@www.childrenscabinet.org
SUMMARY:Strengthening Business Practices: Module 1- Budgets\, Projections\,  Planning
DESCRIPTION:**REMINDER PLEASE CHECK YOUR CONFIRMATION EMAIL FOR ZOOM LINK **\n\n\nInstructor: Janna Mason \nNevada Registry Approved: 2.0 Hours \nCKA: Management & Administration \nThe purpose of this training is to learn the value of developing a budget and how to use it for decision-making throughout the year. It will go over the understandings of how to project business. \nTraining Objectives: \n1 . Learn the value of developing a budget and how to use it for decision-making throughout the year. \n2 . Discussing the importance of creating systems for sustainability within your business. \n3 . Understand how to project business costs\, generate additional income and plan strategically for the future. \nEach professional development session offered by The Children’s Cabinet utilizes a knowledge check to ensure that our participants understand our training objectives and our instructors are providing a comprehensive learning experience. You can expect to receive a three question quiz or test at the end of each training. If you have questions or concerns\, or need additional information about this process\, feel free to contact the Professional Development Training Coordinator at 775-856-6200. \n \nFor a copy of your records or personal identifiable information\, please direct requests to: \nProfessional Development Team\, Attn: Program Assistantcabtraining2@childrenscabinet.org \nFor more information on your security and privacy\, please visit our full policy by scanning the QR in the participant policy notice below.
URL:https://www.childrenscabinet.org/event/strengthening-business-practices-module-1-budgets-projections-planning-4/
LOCATION:NV
CATEGORIES:Childcare Provider
ATTACH;FMTTYPE=image/jpeg:https://www.childrenscabinet.org/wp-content/uploads/2024/10/a0785ca320ab6c05299ecfb358851de0-zTT15j.tmp_.jpg
END:VEVENT
BEGIN:VEVENT
DTSTART;TZID=America/Los_Angeles:20241022T180000
DTEND;TZID=America/Los_Angeles:20241022T193000
DTSTAMP:20260424T071046
CREATED:20240913T164653Z
LAST-MODIFIED:20241022T211141Z
UID:10002394-1729620000-1729625400@www.childrenscabinet.org
SUMMARY:Vroom Brain Builder Series: Brain Building with Toddlers
DESCRIPTION:Please be aware that you will be asked to adhere to all current social distancing guidelines and COVID-19 safety protocols\n\n\nInstructor: Hannah West \nNevada Registry Approved: 1.5 Hours \nCKA: Human Growth & Development \nParticipants will reinforce their knowledge of early brain development during the toddler years while developing a deeper understanding of how to utilize Vroom’s content to strengthen their brain building strategies during this crucial developmental time. \nTraining Objectives: \n1 . By the end of this session\, learners will restate an example of a milestone that takes place in the toddler years. \n2 . By the end of this session\, learners will list a tip that could be applied in their classroom to promote brain development. \n3 . By the end of this session\, learners will support their understanding that any moment can be a brain building moment. \n \nEach professional development session offered by The Children’s Cabinet utilizes a knowledge check to ensure that our participants understand our training objectives and our instructors are providing a comprehensive learning experience. You can expect to receive a three question quiz or test at the end of each training. If you have questions or concerns\, or need additional information about this process\, feel free to contact the Professional Development Training Coordinator at 775-856-6200. \n \nFor a copy of your records or personal identifiable information\, please direct requests to: \nProfessional Development Team\, Attn: Program Assistantcabtraining2@childrenscabinet.org \nFor more information on your security and privacy\, please visit our full policy by scanning the QR in the participant policy notice below.
URL:https://www.childrenscabinet.org/event/vroom-brain-builder-series-brain-building-with-toddlers-2/
LOCATION:Nevada Strong Start Child Care Services Center\, 961 Matley Lane Suite 110\, Reno\, NV\, 89502\, United States
CATEGORIES:Childcare Provider
ATTACH;FMTTYPE=image/jpeg:https://www.childrenscabinet.org/wp-content/uploads/2024/10/2e3c1e5201278c0cd3afa1196777cffd-1eudvL.tmp_.jpg
END:VEVENT
BEGIN:VEVENT
DTSTART;TZID=America/Los_Angeles:20241022T180000
DTEND;TZID=America/Los_Angeles:20241022T200000
DTSTAMP:20260424T071046
CREATED:20240916T234214Z
LAST-MODIFIED:20241022T094232Z
UID:10002927-1729620000-1729627200@www.childrenscabinet.org
SUMMARY:Active Parenting First Five Years: Encouraging Positive Behavior
DESCRIPTION:This is an in-person  class at The Children’s Cabinet.\n\n\nThis is an in-person class \nTotal Hours: 2.0 \nCaregivers often need reassurance whenever correcting a young child’s misbehavior. In Active Parenting: The First Five Years\, we explore ways to enhance your skills by providing activities supporting positive discipline techniques (e.g.\, giving simple choices\, following through with logical consequences\, and offering forgiveness). (2-hour program) \nInstructor: Thelma Aviles \nFor a copy of your records or personal identifiable information\, please direct requests to: \nProfessional Development Team\, Attn: Program Assistantcabtraining2@childrenscabinet.org \nFor more information on your security and privacy\, please visit our full policy by scanning the QR in the participant policy notice below.
URL:https://www.childrenscabinet.org/event/active-parenting-first-five-years-encouraging-positive-behavior-3/
LOCATION:Children’s Cabinet- Rock Office\, 1090 South Rock Boulevard\, Reno\, NV\, 89502\, United States
CATEGORIES:Parenting
ATTACH;FMTTYPE=image/jpeg:https://www.childrenscabinet.org/wp-content/uploads/2024/10/f432c3b7321290ed05a6149c8c4e4685-4nuWpa.tmp_.jpg
END:VEVENT
BEGIN:VEVENT
DTSTART;TZID=America/Los_Angeles:20241023T103000
DTEND;TZID=America/Los_Angeles:20241023T120000
DTSTAMP:20260424T071046
CREATED:20240913T234156Z
LAST-MODIFIED:20241022T094234Z
UID:10002403-1729679400-1729684800@www.childrenscabinet.org
SUMMARY:I'm Ready for K: Social Studies and Social Emotional
DESCRIPTION:This event is an IN-PERSON event at Whitney Library.\n\n\nTHIS IS A IN PERSON EVENT. \nTrainers: Jazmin Slappy \nHours: 1.5 \nI’m Ready for K Sessions are designed for children ages 3-5 years old with the primary aim of teaching social emotional and academic skills needed for pre-k and kindergarten readiness.  
URL:https://www.childrenscabinet.org/event/im-ready-for-k-social-studies-and-social-emotional-2/
LOCATION:Whitney Library\, 5175 East Tropicana Avenue\, Las Vegas\, NV\, 89122\, United States
CATEGORIES:Parenting
ATTACH;FMTTYPE=image/jpeg:https://www.childrenscabinet.org/wp-content/uploads/2024/10/5a5cf08c0be5e06e1142d8d1c8e0ab0f-CXCkXh.tmp_.jpg
END:VEVENT
BEGIN:VEVENT
DTSTART;TZID=America/Los_Angeles:20241023T173000
DTEND;TZID=America/Los_Angeles:20241023T183000
DTSTAMP:20260424T071046
CREATED:20240912T234159Z
LAST-MODIFIED:20241021T221157Z
UID:10002898-1729704600-1729708200@www.childrenscabinet.org
SUMMARY:Out of School Time: Family Science … It’s Not How I learned Science
DESCRIPTION:***Please make sure to have a Zoom account prior to attending The Children’s Cabinet virtual trainings.*** (Handouts-Windows 10 or better)\n\n\nInstructor: Constance Tomaneng \nNevada Registry Approved: 1.0 Hours \nCKA: Positive Interactions and Guidance \nInvolving parents and families in afterschool science\, engineering\, and technology (SET) programming produces real payoffs for youth\, families\, and afterschool programs. Learn how to extend youth’s learning and increase their interest in SET through family science nights\, family take-home backpacks\, and other strategies that involve parents in your afterschool program. \nTraining Objectives: \n1 . To acquaint participants with the benefits of involving parents and other family members in SET afterschool programming. \n2 . To enhance confidence and competence in effectively engaging families in SET activities and strategies that support their children’s acquisition of SET knowledge and skills. \n3 . Enhance competence in effectively engaging families. \nFor a copy of your records or personal identifiable information\, please direct requests to:  \nProfessional Development Team\, Attn: Program Assistant  cabtraining2@childrenscabinet.org  \nFor more information on your security and privacy\, please visit our full policy by scanning the QR in the participant policy notice below. 
URL:https://www.childrenscabinet.org/event/out-of-school-time-family-science-its-not-how-i-learned-science-7/
LOCATION:NV
CATEGORIES:Childcare Provider
ATTACH;FMTTYPE=image/jpeg:https://www.childrenscabinet.org/wp-content/uploads/2024/10/b5f29dec657ad49e88b828d9eb8e41a6-ivU2Gt.tmp_.jpg
END:VEVENT
BEGIN:VEVENT
DTSTART;TZID=America/Los_Angeles:20241023T183000
DTEND;TZID=America/Los_Angeles:20241023T193000
DTSTAMP:20260424T071046
CREATED:20240916T234216Z
LAST-MODIFIED:20241022T094235Z
UID:10002928-1729708200-1729711800@www.childrenscabinet.org
SUMMARY:Cribs for Kids
DESCRIPTION:PLEASE SEE REQUIREMENTS TO ATTEND THIS PARENTING CLASS.\n\n\nThis is an in-person class \nTotal Hours: 1.0 \nREQUIREMENTS: Baby due in 4 months to baby 6 months old needing a crib \nNew Parents! Single Parents! Moms or Dads Grandparents! (gaining custody) \n***Will Get a FREE Crib with Accessories when completing this class*** \nSafe Sleep Education: Babies don’t come with a manual when they are born nor does the doctor hand you a book on “how to” the day you leave the hospital. \nSleep\, what’s sleep with a new baby? When you do get some sleep why not education on have how to keep your baby safe when they are sleeping. \nInstructor: Tanya & Jenni \nFor a copy of your records or personal identifiable information\, please direct requests to: \nProfessional Development Team\, Attn: Program Assistantcabtraining2@childrenscabinet.org \nFor more information on your security and privacy\, please visit our full policy by scanning the QR in the participant policy notice below.
URL:https://www.childrenscabinet.org/event/cribs-for-kids-9/
LOCATION:The Children’s Cabinet\, 5905 South Decatur Blvd.\, Suite #13\, Las Vegas\, NV\, 89118\, United States
CATEGORIES:Parenting
ATTACH;FMTTYPE=image/jpeg:https://www.childrenscabinet.org/wp-content/uploads/2024/10/6d79f574189fb60e4c84152a8b583c66-BkZrbC.tmp_.jpg
END:VEVENT
BEGIN:VEVENT
DTSTART;TZID=America/Los_Angeles:20241024T170000
DTEND;TZID=America/Los_Angeles:20241024T190000
DTSTAMP:20260424T071046
CREATED:20240912T234200Z
LAST-MODIFIED:20241021T221159Z
UID:10002899-1729789200-1729796400@www.childrenscabinet.org
SUMMARY:CANCELED: NV Pyramid Model: Session 10- Identifying Form and Function
DESCRIPTION:**PARTICIPANTS MUST COMPLETE REGISTRATION IN THE LINK PROVIDED IN THE CONFIRMATION EMAIL**\n\n\nInstructor: Minerva Perez \nNevada Registry Approved: 2.0 Hour \nCKA: Human Growth and Development \nUnderstand the communicative message behind challenging behaviors and how to identify skills that can be targeted for instruction. Participants will practice writing behavior equations to determine the function of behavior and target teaching efforts and will gain tools for developing a team-based approach for addressing challenging behaviors \n \nEach professional development session offered by The Children’s Cabinet utilizes a knowledge check to ensure that our participants understand our training objectives and our instructors are providing a comprehensive learning experience. You can expect to receive a three question quiz or test at the end of each training. If you have questions or concerns\, or need additional information about this process\, feel free to contact the Professional Development Training Coordinator at 775-856-6200. \n \nFor a copy of your records or personal identifiable information\, please direct requests to: \nProfessional Development Program Assistant \ncabtraining2@childrenscabinet.org \nFor more information on your security and privacy\, please visit our full policy by scanning the QR in the participant policy notice below.
URL:https://www.childrenscabinet.org/event/nv-pyramid-model-session-10-identifying-form-and-function-of-behavior-5/
LOCATION:NV
CATEGORIES:Childcare Provider
ATTACH;FMTTYPE=image/jpeg:https://www.childrenscabinet.org/wp-content/uploads/2024/02/32c90f8023a466f7a23b7570e9d6e0fa-ENAUM0.tmp_.jpg
END:VEVENT
END:VCALENDAR