BEGIN:VCALENDAR
VERSION:2.0
PRODID:-//Children&#039;s Cabinet - ECPv6.15.17//NONSGML v1.0//EN
CALSCALE:GREGORIAN
METHOD:PUBLISH
X-ORIGINAL-URL:https://www.childrenscabinet.org
X-WR-CALDESC:Events for Children&#039;s Cabinet
REFRESH-INTERVAL;VALUE=DURATION:PT1H
X-Robots-Tag:noindex
X-PUBLISHED-TTL:PT1H
BEGIN:VTIMEZONE
TZID:America/Los_Angeles
BEGIN:DAYLIGHT
TZOFFSETFROM:-0800
TZOFFSETTO:-0700
TZNAME:PDT
DTSTART:20240310T100000
END:DAYLIGHT
BEGIN:STANDARD
TZOFFSETFROM:-0700
TZOFFSETTO:-0800
TZNAME:PST
DTSTART:20241103T090000
END:STANDARD
BEGIN:DAYLIGHT
TZOFFSETFROM:-0800
TZOFFSETTO:-0700
TZNAME:PDT
DTSTART:20250309T100000
END:DAYLIGHT
BEGIN:STANDARD
TZOFFSETFROM:-0700
TZOFFSETTO:-0800
TZNAME:PST
DTSTART:20251102T090000
END:STANDARD
BEGIN:DAYLIGHT
TZOFFSETFROM:-0800
TZOFFSETTO:-0700
TZNAME:PDT
DTSTART:20260308T100000
END:DAYLIGHT
BEGIN:STANDARD
TZOFFSETFROM:-0700
TZOFFSETTO:-0800
TZNAME:PST
DTSTART:20261101T090000
END:STANDARD
END:VTIMEZONE
BEGIN:VEVENT
DTSTART;TZID=America/Los_Angeles:20250218T180000
DTEND;TZID=America/Los_Angeles:20250304T200000
DTSTAMP:20260423T033027
CREATED:20250113T200851Z
LAST-MODIFIED:20250304T125647Z
UID:10002956-1739901600-1741118400@www.childrenscabinet.org
SUMMARY:The Importance of Fatherhood **SEE NOTES**
DESCRIPTION:This is an in-person  class at The Children’s Cabinet.\n\n\nThis is an in-person class \nTotal Hours: 8.0 \nThis class will share concepts about fatherhood that will help fathers to re-establish true connections with their children. This class is a four-part series taught over 3 weeks where each class is 2 hours. Participants must complete all classes for certificate. \nThis is a 3-part series on: 2/18; 2/25  and 3/4 Must attend all 3 sessions to get credit for court-ordered programs. \nInstructor: Kat Wilson
URL:https://www.childrenscabinet.org/event/the-importance-of-fatherhood-see-notes-3/
LOCATION:The Children’s Cabinet\, 5905 South Decatur Blvd.\, Suite #13\, Las Vegas\, NV\, 89118\, United States
CATEGORIES:Parenting
ATTACH;FMTTYPE=image/jpeg:https://www.childrenscabinet.org/wp-content/uploads/2024/02/90d29bd9a943bfe0639ebdf986290ab7-4Dk09i.tmp_.jpg
END:VEVENT
BEGIN:VEVENT
DTSTART;TZID=America/Los_Angeles:20250303T180000
DTEND;TZID=America/Los_Angeles:20250303T200000
DTSTAMP:20260423T033027
CREATED:20250113T201119Z
LAST-MODIFIED:20250303T124143Z
UID:10003009-1741024800-1741032000@www.childrenscabinet.org
SUMMARY:Calming the Chaos: Tips and Trick for Smoother Transitions
DESCRIPTION:**REMINDER PLEASE CHECK YOUR CONFIRMATION EMAIL FOR ZOOM LINK**\n\n\nInstructor: Whitney Tillman \nNevada Registry Approved: 2.0 Hours \nCKA: Environment & Curriculum \n \nDuring this event learners will define transitions\, explore prevention strategies\, and be introduced to new songs and activites to use during transitions. Learners will participate in interactive activities to apply thei knowledge such as a talent show. Additionally\, learners will engage in small and large group discussion. \nLearning Objectives \n• Learners will be able to identify three transitions in their early childhood setting. \n• Learners will be able to describe three different prevention strategies to implement for smoother transitions. \n• Learners will demonstrate how to intentionally prepare activities to implement during transitions. \n \nEach professional development session offered by The Children’s Cabinet utilizes a knowledge check to ensure that our participants understand our training objectives and our instructors are providing a comprehensive learning experience. You can expect to receive a three question quiz or test at the end of each training. If you have questions or concerns\, or need additional information about this process\, feel free to contact the Professional Development Training Coordinator at 775-856-6200. \n \nFor a copy of your records or personal identifiable information\, please direct requests to: \nProfessional Development Program Assistant \ncabtraining2@childrenscabinet.org \nFor more information on your security and privacy\, please visit our full policy by scanning the QR in the participant policy notice below.
URL:https://www.childrenscabinet.org/event/calming-the-chaos-tips-and-trick-for-smoother-transitions/
LOCATION:NV
CATEGORIES:Childcare Provider
ATTACH;FMTTYPE=image/jpeg:https://www.childrenscabinet.org/wp-content/uploads/2024/10/c6bd2ae4a677caafe29a426f7a028d2c-JL9bnO.tmp_.jpg
END:VEVENT
BEGIN:VEVENT
DTSTART;TZID=America/Los_Angeles:20250304T100000
DTEND;TZID=America/Los_Angeles:20250304T110000
DTSTAMP:20260423T033027
CREATED:20250113T200905Z
LAST-MODIFIED:20250304T125649Z
UID:10002967-1741082400-1741086000@www.childrenscabinet.org
SUMMARY:Cunas Para Niños
DESCRIPTION:This is an in-person  class at The Children’s Cabinet-Decatur.\n\n\nThis is an in-person class \nTotal Hours: 1.0 \nThe Children’s Cabinet ofrece una clase gratis de 1 hora sobre la importancia de prácticas seguras para dormir a su bebé. Al completar la clase\, todos los participantes elegibles recibirán un corralito. Participantes elegibles: padres esperando bebé o padres con un infante no mayor de 6 meses. \nInstructor: Ivett Nunez \n \nFor a copy of your records or personal identifiable information\, please direct requests to: \nProfessional Development Team\, Attn: Program Assistantcabtraining2@childrenscabinet.org \nFor more information on your security and privacy\, please visit our full policy by scanning the QR in the participant policy notice below.
URL:https://www.childrenscabinet.org/event/cunas-para-ninos-5/
LOCATION:Las Vegas The Children’s Cabinet\, 5905 S. Decatur Blvd. Ste. 13\, Las Vegas\, NV\, 89118\, United States
CATEGORIES:Parenting
ATTACH;FMTTYPE=image/jpeg:https://www.childrenscabinet.org/wp-content/uploads/2024/10/65ed70f11558692f59deeaca86f98f46-DYQkZS.tmp_.jpg
END:VEVENT
BEGIN:VEVENT
DTSTART;TZID=America/Los_Angeles:20250304T103000
DTEND;TZID=America/Los_Angeles:20250304T113000
DTSTAMP:20260423T033027
CREATED:20250113T200906Z
LAST-MODIFIED:20250304T125649Z
UID:10002968-1741084200-1741087800@www.childrenscabinet.org
SUMMARY:I'm Ready for K: Math
DESCRIPTION:This is an in-person  class at Family 2 Family Connection\n\n\nThis is an in-person class \nTotal Hours: 1.0 \nJoin us for a fun-filled playing and learning series designed for both you and your children. The “I’m Ready for K” series is designed for parents with children ages 3-5 years old. Parents will learn how to help their children acquire the necessary skills for kindergarten readiness. \nInstructor: Jazmin Slappy \n \nFor a copy of your records or personal identifiable information\, please direct requests to: \nProfessional Development Team\, Attn: Program Assistanttraininglv@childrenscabinet.org \nFor more information on your security and privacy\, please visit our full policy by scanning the QR in the participant policy notice below.
URL:https://www.childrenscabinet.org/event/im-ready-for-k-math-6/
LOCATION:Family 2 Family Connection\, 3900 Cambridge Street\, #107\, Las Vegas\, NV\, 89119\, United States
CATEGORIES:Parenting
ATTACH;FMTTYPE=image/jpeg:https://www.childrenscabinet.org/wp-content/uploads/2024/10/83f7b1211aa06981397fc6381c54057d-hz0bUo.tmp_.jpg
END:VEVENT
BEGIN:VEVENT
DTSTART;TZID=America/Los_Angeles:20250304T170000
DTEND;TZID=America/Los_Angeles:20250304T190000
DTSTAMP:20260423T033027
CREATED:20250113T201123Z
LAST-MODIFIED:20250304T205640Z
UID:10003010-1741107600-1741114800@www.childrenscabinet.org
SUMMARY:CANCELLED - Murphy's Terrible\, No Good\, Very Bad Day
DESCRIPTION:In-Person\n\n\nInstructor: Janna Mason \nNevada Registry Approved: 2.0 Hours \nCKA: Health Safety & Nutrition \nParticipants will learn how to think about\, plan and prepare for emergency situations. They will develop a preparedness plan that includes communication\, emergency supplies\, evacuation plans and more. Participants will walk away with many handouts and materials to make sure they can handle any situation that might occur. \nTraining Objectives: \n1 . Participants will brainstorm emergency situations and discuss why we need to be prepared. \n2 . Participants will develop an emergency preparedness plan including communication\, emergency supplies\, evacuation plans and more. \n3 . Participants will discuss what to do after the emergency preparedness plan has been written. \nEach professional development session offered by The Children’s Cabinet utilizes a knowledge check to ensure that our participants understand our training objectives and our instructors are providing a comprehensive learning experience. You can expect to receive a three question quiz or test at the end of each training. If you have questions or concerns\, or need additional information about this process\, feel free to contact the Professional Development Training Coordinator at 775-856-6200. \n \nFor a copy of your records or personal identifiable information\, please direct requests to: \nProfessional Development Team\, Attn: Program Assistantcabtraining2@childrenscabinet.org \nFor more information on your security and privacy\, please visit our full policy by scanning the QR in the participant policy notice below.
URL:https://www.childrenscabinet.org/event/murphys-terrible-no-good-very-bad-day-2/
LOCATION:Nevada Strong Start Child Care Services Center\, 961 Matley Lane Suite 110\, Reno\, NV\, 89502\, United States
CATEGORIES:Childcare Provider
ATTACH;FMTTYPE=image/jpeg:https://www.childrenscabinet.org/wp-content/uploads/2025/01/2c5c96e727d443cfb6383797120895e7-zTGj9R.tmp_.jpg
END:VEVENT
BEGIN:VEVENT
DTSTART;TZID=America/Los_Angeles:20250304T180000
DTEND;TZID=America/Los_Angeles:20250304T200000
DTSTAMP:20260423T033027
CREATED:20250113T200908Z
LAST-MODIFIED:20250304T125650Z
UID:10002969-1741111200-1741118400@www.childrenscabinet.org
SUMMARY:Parenting 501: Redirecting Your Child's Misbehavior
DESCRIPTION:This is an in-person  class at The Children’s Cabinet.\n\n\nThis is an in-person class \nTotal Hours: 2.0 \nIn this class\, we explain the age-old question\, “What are they thinking?” by first understanding what motivates our kids’ behaviors\, and then how to best redirect them towards making better choices using some common\, yet effective techniques and strategies. (This is a 2-hour program intended for those with children ages 6-12 years.) \nInstructor: Thelma Aviles \nFor a copy of your records or personal identifiable information\, please direct requests to: \nProfessional Development Team\, Attn: Program Assistantcabtraining2@childrenscabinet.org \nFor more information on your security and privacy\, please visit our full policy by scanning the QR in the participant policy notice below.
URL:https://www.childrenscabinet.org/event/parenting-501-redirecting-your-childs-misbehavior/
LOCATION:The Children’s Cabinet\, 5905 South Decatur Blvd.\, Suite #13\, Las Vegas\, NV\, 89118\, United States
CATEGORIES:Parenting
ATTACH;FMTTYPE=image/jpeg:https://www.childrenscabinet.org/wp-content/uploads/2025/01/c5de4aaba12886b7f96f2ddddb44c280-xXjs1d.tmp_.jpg
END:VEVENT
BEGIN:VEVENT
DTSTART;TZID=America/Los_Angeles:20250305T170000
DTEND;TZID=America/Los_Angeles:20250305T183000
DTSTAMP:20260423T033027
CREATED:20250113T200909Z
LAST-MODIFIED:20250305T084106Z
UID:10002970-1741194000-1741199400@www.childrenscabinet.org
SUMMARY:Finding Balance with Media and Tech Use at Home
DESCRIPTION:**PARTICIPANTS MUST COMPLETE REGISTRATION IN THE LINK PROVIDED IN THE CONFIRMATION EMAIL**\n\n\nTHIS IS A LIVE WEBINAR \nTrainers: Ivett Nunez \nHours: 1.5 \nIn this workshop\, we will reflect on the activities children engage in every week\, and how much media and technology they consume.  We will explore ideas on how to replace time from media/tech with other learning activities.  Open to families with children 2-8 years old.  \n \nFor a copy of your records or personal identifiable information\, please direct requests to: \nProfessional Development Team\, Attn: Program Assistantcabtraining2@childrenscabinet.org \nFor more information on your security and privacy\, please visit our full policy by scanning the QR in the participant policy notice below.
URL:https://www.childrenscabinet.org/event/finding-balance-with-media-and-tech-use-at-home/
LOCATION:NV
CATEGORIES:Parenting
ATTACH;FMTTYPE=image/jpeg:https://www.childrenscabinet.org/wp-content/uploads/2024/10/3b5e3e7cede18a61e3c0ba2214aaa0da-5FGgDO.tmp_.jpg
END:VEVENT
BEGIN:VEVENT
DTSTART;TZID=America/Los_Angeles:20250305T173000
DTEND;TZID=America/Los_Angeles:20250305T183000
DTSTAMP:20260423T033027
CREATED:20250113T201127Z
LAST-MODIFIED:20250306T043216Z
UID:10003011-1741195800-1741199400@www.childrenscabinet.org
SUMMARY:Out of School Time: Family Science … It’s Not How I learned Science
DESCRIPTION:***Please make sure to have a Zoom account prior to attending The Children’s Cabinet virtual trainings.*** (Handouts-Windows 10 or better)\n\n\nInstructor: Constance Tomaneng \nNevada Registry Approved: 1.0 Hours \nCKA: Family and Community Relationships \nInvolving parents and families in afterschool science\, engineering\, and technology (SET) programming produces real payoffs for youth\, families\, and afterschool programs. Learn how to extend youth’s learning and increase their interest in SET through family science nights\, family take-home backpacks\, and other strategies that involve parents in your afterschool program. \n \nLearning Outcomes: \n1 . To acquaint participants with the benefits of involving parents and other family members in SET afterschool programming. \n2 . To enhance confidence and competence in effectively engaging families in SET activities and strategies that support their children’s acquisition of SET knowledge and skills. \n3 . Enhance competence in effectively engaging families. \n \nEach professional development session offered by The Children’s Cabinet utilizes a knowledge check to ensure that our participants understand our training objectives and our instructors are providing a comprehensive learning experience. You can expect to receive a three question quiz or test at the end of each training. If you have questions or concerns\, or need additional information about this process\, feel free to contact the Professional Development Training Coordinator at 775-856-6200. \nFor a copy of your records or personal identifiable information\, please direct requests to: \nProfessional Development Team\, Attn: Program Assistantcabtraining2@childrenscabinet.org \nFor more information on your security and privacy\, please visit our full policy by scanning the QR in the participant policy notice below.
URL:https://www.childrenscabinet.org/event/out-of-school-time-family-science-its-not-how-i-learned-science-8/
LOCATION:NV
CATEGORIES:Childcare Provider
ATTACH;FMTTYPE=image/jpeg:https://www.childrenscabinet.org/wp-content/uploads/2025/03/950e6e901807e18f998216357518453d-YaNXfK.tmp_.jpg
END:VEVENT
BEGIN:VEVENT
DTSTART;TZID=America/Los_Angeles:20250305T180000
DTEND;TZID=America/Los_Angeles:20250305T193000
DTSTAMP:20260423T033027
CREATED:20250113T200910Z
LAST-MODIFIED:20250305T084107Z
UID:10002971-1741197600-1741203000@www.childrenscabinet.org
SUMMARY:The Brain Science Behind VROOM
DESCRIPTION:This is an in-person  class at  Nevada Strong Start Child Care Services Center.\n\n\nThis is an in-person class \nTotal Hours: 1.5 \nJoin us for an interactive look into how our young children’s brains develop\, while learning fun\, and engaging activities that you can do daily to help give children a great start in life today—and an even better future. (This is a 1.5 hour class) \nInstructor: Hannah West \nFor a copy of your records or personal identifiable information\, please direct requests to: \nProfessional Development Team\, Attn: Program Assistantcabtraining2@childrenscabinet.org \nFor more information on your security and privacy\, please visit our full policy by scanning the QR in the participant policy notice below.
URL:https://www.childrenscabinet.org/event/the-brain-science-behind-vroom/
LOCATION:Nevada Strong Start Child Care Services Center\, 961 Matley Lane Suite 110\, Reno\, NV\, 89502\, United States
CATEGORIES:Parenting
ATTACH;FMTTYPE=image/jpeg:https://www.childrenscabinet.org/wp-content/uploads/2024/10/85b53c2c1e5be582d64886809054820b-rBjgar.tmp_.jpg
END:VEVENT
BEGIN:VEVENT
DTSTART;TZID=America/Los_Angeles:20250306T100000
DTEND;TZID=America/Los_Angeles:20250306T110000
DTSTAMP:20260423T033027
CREATED:20250113T200911Z
LAST-MODIFIED:20250306T133535Z
UID:10002972-1741255200-1741258800@www.childrenscabinet.org
SUMMARY:Cribs for Kids
DESCRIPTION:This is an in-person  class at The Children’s Cabinet.\n\n\nThis is an in-person class \nTotal Hours: 1.0 \nA one-hour parenting class on the importance of practicing safe sleep practices to reduce the risk of Sudden Unexpected Infant Deaths (SUID) which include SIDS and preventable deaths like suffocation and strangulation in bed.   \n  \nInstructor: Jazmin Slappy
URL:https://www.childrenscabinet.org/event/cribs-for-kids-13/
LOCATION:Las Vegas The Children’s Cabinet\, 5905 S. Decatur Blvd. Ste. 13\, Las Vegas\, NV\, 89118\, United States
CATEGORIES:Parenting
ATTACH;FMTTYPE=image/jpeg:https://www.childrenscabinet.org/wp-content/uploads/2025/01/7f47a2a15f4005dc4e9a3acb98313f88-tJokXU.tmp_.jpg
END:VEVENT
BEGIN:VEVENT
DTSTART;TZID=America/Los_Angeles:20250308T090000
DTEND;TZID=America/Los_Angeles:20250308T110000
DTSTAMP:20260423T033027
CREATED:20250113T200958Z
LAST-MODIFIED:20250307T221138Z
UID:10002986-1741424400-1741431600@www.childrenscabinet.org
SUMMARY:From Co-Teachers to Coach (Inside the Classroom)
DESCRIPTION:Thanks so much for your registration!  We look forward to serving you.\n **COVID-19 UPDATE**\nThe Children’s Cabinet is taking precautions t\n\n\nInstructor: Samantha Hour \nNevada Registry Approved: 2.0 hours \nCKA: Positive Interactions and Guidance \nThis training session is designed to help providers identify positive discipline methods versus negative discipline with children. Providers will be provided video clips and will determine ways in which the provider can improve techniques using the different methods. \nLearning Objectives•Participants will be able to use positive discipline methods with children through routine and activities.•Participants will be able to identify one positive discipline method to use within the classroom.•Participants will be able to model positive discipline with children during routine care and transitions \nFor a copy of your records or personal identifiable information\, please direct requests to:  \nProfessional Development Team\, Attn: Program Assistant  cabtraining2@childrenscabinet.org  \nFor more information on your security and privacy\, please visit our full policy by scanning the QR in the participant policy notice below. 
URL:https://www.childrenscabinet.org/event/from-co-teachers-to-coach-inside-the-classroom/
LOCATION:Las Vegas The Children’s Cabinet\, 5905 S. Decatur Blvd. Ste. 13\, Las Vegas\, NV\, 89118\, United States
CATEGORIES:Childcare Provider
ATTACH;FMTTYPE=image/jpeg:https://www.childrenscabinet.org/wp-content/uploads/2024/10/898338c05e078f1207f2b49cd64c74bd-SOpSsP.tmp_.jpg
END:VEVENT
BEGIN:VEVENT
DTSTART;TZID=America/Los_Angeles:20250308T113000
DTEND;TZID=America/Los_Angeles:20250308T133000
DTSTAMP:20260423T033027
CREATED:20250113T200959Z
LAST-MODIFIED:20250307T221139Z
UID:10002987-1741433400-1741440600@www.childrenscabinet.org
SUMMARY:Mind in the Making Module 1: Introduction to Mind in the Making
DESCRIPTION:Please be aware that you will be asked to adhere to all current social distancing guidelines and COVID-19 safety protocols\n\n\nInstructor: Constance Tomaneng \nNevada Registry Approved: 2.0 hours \nCKA: Human Growth and Development \n \nLearning Outcomes:  \n\nParticipants will restate the “7 Essential Life Skills” of Mind in the Making.\nParticipants will paraphrase the concept of Executive Function skills and how it relates to a child’s healthy development.\nParticipants will choose how the framework of Skill-Building Strategies supports their ECE environment.\n\n \nEach professional development session offered by The Children’s Cabinet utilizes a knowledge check to ensure that our participants understand our training objectives and our instructors are providing a comprehensive learning experience. You can expect to receive a three question quiz or test at the end of each training. If you have questions or concerns\, or need additional information about this process\, feel free to contact the Professional Development Training Coordinator at 775-856-6200. \nFor a copy of your records or personal identifiable information\, please direct requests to: \nProfessional Development Team\, Attn: Program Assistantcabtraining2@childrenscabinet.org \nFor more information on your security and privacy\, please visit our full policy by scanning the QR in the participant policy notice below.
URL:https://www.childrenscabinet.org/event/mind-in-the-making-module-1-introduction-to-mind-in-the-making/
LOCATION:The Children’s Cabinet\, 5905 South Decatur Blvd.\, Suite #13\, Las Vegas\, NV\, 89118\, United States
CATEGORIES:Childcare Provider
ATTACH;FMTTYPE=image/jpeg:https://www.childrenscabinet.org/wp-content/uploads/2025/01/4cf12b431ac2feb6b36d02c5765aeb56-dt8ENL.tmp_.jpg
END:VEVENT
END:VCALENDAR