BEGIN:VCALENDAR
VERSION:2.0
PRODID:-//Children&#039;s Cabinet - ECPv6.15.17//NONSGML v1.0//EN
CALSCALE:GREGORIAN
METHOD:PUBLISH
X-ORIGINAL-URL:https://www.childrenscabinet.org
X-WR-CALDESC:Events for Children&#039;s Cabinet
REFRESH-INTERVAL;VALUE=DURATION:PT1H
X-Robots-Tag:noindex
X-PUBLISHED-TTL:PT1H
BEGIN:VTIMEZONE
TZID:America/Los_Angeles
BEGIN:DAYLIGHT
TZOFFSETFROM:-0800
TZOFFSETTO:-0700
TZNAME:PDT
DTSTART:20240310T100000
END:DAYLIGHT
BEGIN:STANDARD
TZOFFSETFROM:-0700
TZOFFSETTO:-0800
TZNAME:PST
DTSTART:20241103T090000
END:STANDARD
BEGIN:DAYLIGHT
TZOFFSETFROM:-0800
TZOFFSETTO:-0700
TZNAME:PDT
DTSTART:20250309T100000
END:DAYLIGHT
BEGIN:STANDARD
TZOFFSETFROM:-0700
TZOFFSETTO:-0800
TZNAME:PST
DTSTART:20251102T090000
END:STANDARD
BEGIN:DAYLIGHT
TZOFFSETFROM:-0800
TZOFFSETTO:-0700
TZNAME:PDT
DTSTART:20260308T100000
END:DAYLIGHT
BEGIN:STANDARD
TZOFFSETFROM:-0700
TZOFFSETTO:-0800
TZNAME:PST
DTSTART:20261101T090000
END:STANDARD
END:VTIMEZONE
BEGIN:VEVENT
DTSTART;TZID=America/Los_Angeles:20250324T180000
DTEND;TZID=America/Los_Angeles:20250324T200000
DTSTAMP:20260424T031345
CREATED:20250113T200919Z
LAST-MODIFIED:20250324T171157Z
UID:10002977-1742839200-1742846400@www.childrenscabinet.org
SUMMARY:Cultural Competency and Parenting
DESCRIPTION:**REMINDER PLEASE CHECK YOUR EMAIL FOR ZOOM LINK**\n\n\nTHIS IS A LIVE ONLINE WEBINAR \nTotal Hours: 2.0 \nIn this class\, parents and caregivers will explore topics such as social identity\, unconscious bias\, subtle behaviors\, and promoting inclusivity\, to help children understand social norms in today’s society. (This is a 2-hour program) \nInstructor: Jay Cafferata                                               Facilitator: Thelma Aviles \nFor a copy of your records or personal identifiable information\, please direct requests to: \nProfessional Development Team\, Attn: Program Assistantcabtraining2@childrenscabinet.org \nFor more information on your security and privacy\, please visit our full policy by scanning the QR in the participant policy notice below.
URL:https://www.childrenscabinet.org/event/cultural-competency-and-parenting/
LOCATION:NV
CATEGORIES:Parenting
ATTACH;FMTTYPE=image/jpeg:https://www.childrenscabinet.org/wp-content/uploads/2025/01/69fd58d14bbef50003c2910bd69839d3-oLND8J.tmp_.jpg
END:VEVENT
BEGIN:VEVENT
DTSTART;TZID=America/Los_Angeles:20250325T103000
DTEND;TZID=America/Los_Angeles:20250325T113000
DTSTAMP:20260424T031345
CREATED:20250113T200920Z
LAST-MODIFIED:20250324T171158Z
UID:10002978-1742898600-1742902200@www.childrenscabinet.org
SUMMARY:I'm Ready for K: Language and Literacy
DESCRIPTION:This is an in-person  class at Family 2 Family Connection\n\n\nThis is an in-person class \nTotal Hours: 1.0 \nJoin us for a fun-filled playing and learning series designed for both you and your children. The “I’m Ready for K” series is designed for parents with children ages 3-5 years old. Parents will learn how to help their children acquire the necessary skills for kindergarten readiness. \nInstructor: Jazmin Slappy \n \nFor a copy of your records or personal identifiable information\, please direct requests to: \nProfessional Development Team\, Attn: Program Assistantcabtraining2@childrenscabinet.org \nFor more information on your security and privacy\, please visit our full policy by scanning the QR in the participant policy notice below.
URL:https://www.childrenscabinet.org/event/im-ready-for-k-language-and-literacy-4/
LOCATION:Family 2 Family Connection\, 3900 Cambridge Street\, #107\, Las Vegas\, NV\, 89119\, United States
CATEGORIES:Parenting
ATTACH;FMTTYPE=image/jpeg:https://www.childrenscabinet.org/wp-content/uploads/2024/10/67fa3a62352edeaed250d90273fade61-ZEN3B3.tmp_.jpg
END:VEVENT
BEGIN:VEVENT
DTSTART;TZID=America/Los_Angeles:20250326T170000
DTEND;TZID=America/Los_Angeles:20250326T183000
DTSTAMP:20260424T031345
CREATED:20250113T201159Z
LAST-MODIFIED:20250326T191646Z
UID:10003020-1743008400-1743013800@www.childrenscabinet.org
SUMMARY:Out of School Time:  Positive Guidance
DESCRIPTION:***Please make sure to have a Zoom account prior to attending The Children’s Cabinet virtual trainings.*** (Handouts-Windows 10 or better)\n\n\nInstructor: Constance Tomaneng \nNevada Registry Approved: 1.5 Hours \nCKA: Positive Interactions and Guidance \nGuiding a child’s behavior can be a daunting task\, especially if the teacher does not know the difference among guidance\, discipline and punishment. One or two mischievous behaviors from the children can completely alter the setup for the day. The behaviors are bound to break the day. \n \nLearning Outcomes: \n1 . To learn what Positive Guidance is and how it factors in a classroom. \n2 . To acquaint participants with guidance techniques or strategies and when to use each. \n3 . To learn a step-by-step process for responding to challenging behavior. \n \nEach professional development session offered by The Children’s Cabinet utilizes a knowledge check to ensure that our participants understand our training objectives and our instructors are providing a comprehensive learning experience. You can expect to receive a three question quiz or test at the end of each training. If you have questions or concerns\, or need additional information about this process\, feel free to contact the Professional Development Training Coordinator at 775-856-6200. \nFor a copy of your records or personal identifiable information\, please direct requests to: \nProfessional Development Team\, Attn: Program Assistantcabtraining2@childrenscabinet.org \nFor more information on your security and privacy\, please visit our full policy by scanning the QR in the participant policy notice below.
URL:https://www.childrenscabinet.org/event/out-of-school-time-positive-guidance-9/
LOCATION:NV
CATEGORIES:Childcare Provider
ATTACH;FMTTYPE=image/jpeg:https://www.childrenscabinet.org/wp-content/uploads/2025/03/e805e98a0c02d74379dc5a4ad0de2a87-nGQpKq.tmp_.jpg
END:VEVENT
BEGIN:VEVENT
DTSTART;TZID=America/Los_Angeles:20250326T180000
DTEND;TZID=America/Los_Angeles:20250326T200000
DTSTAMP:20260424T031345
CREATED:20250113T200921Z
LAST-MODIFIED:20250326T042704Z
UID:10002979-1743012000-1743019200@www.childrenscabinet.org
SUMMARY:The Impact of the Games We Play
DESCRIPTION:**REMINDER PLEASE CHECK YOUR EMAIL FOR ZOOM LINK**\n\n\nTHIS IS A LIVE ONLINE WEBINAR \nTotal Hours: 2.0 \nVideo games now outsell movies and music combined. Not surprisingly\, video game and social media addictions are rising in kids and adults. This presentation will contrast healthy and problematic gaming and discuss features in video games and social media that are addictive. It will also teach parents and children the signs and symptoms of gaming addiction and its effects on children and the family. Participants will learn about community resources for gaming and gambling issues. Intended for families with children of all ages. (2-hour program) \nInstructor: Ted Hartwell \nFor a copy of your records or personal identifiable information\, please direct requests to: \nProfessional Development Team\, Attn: Program Assistantcabtraining2@childrenscabinet.org \nFor more information on your security and privacy\, please visit our full policy by scanning the QR in the participant policy notice below.
URL:https://www.childrenscabinet.org/event/the-impact-of-the-games-we-play/
LOCATION:NV
CATEGORIES:Parenting
ATTACH;FMTTYPE=image/jpeg:https://www.childrenscabinet.org/wp-content/uploads/2025/01/2d2937add13094f1c096ea489ee17ba8-QDrCDx.tmp_.jpg
END:VEVENT
BEGIN:VEVENT
DTSTART;TZID=America/Los_Angeles:20250327T180000
DTEND;TZID=America/Los_Angeles:20250327T200000
DTSTAMP:20260424T031345
CREATED:20250113T200922Z
LAST-MODIFIED:20250326T042705Z
UID:10002980-1743098400-1743105600@www.childrenscabinet.org
SUMMARY:El Impacto De Los Juegos Que Jugamos
DESCRIPTION:**REMINDER PLEASE CHECK YOUR EMAIL FOR ZOOM LINK**\n\n\nTHIS IS A LIVE ONLINE WEBINAR \nTotal Hours: 2.0 \nActualmente\, los videojuegos superan en ventas a las películas y la música combinadas. No es sorprendente\, que las adicciones a los videojuegos y las redes sociales estén en aumento tanto en niños como en adultos. Esta presentación hará un contraste entre el uso saludable y el uso excesivo de los videojuegos\, además estudiara las características presentes en los videojuegos y las redes sociales que contribuyen al desarrollo de una adicción. En esta presentación\, tanto padres e hijos aprenderán a reconocer las señales y síntomas de la adicción a los videojuegos\, así como el impacto negativo en los niños y la familia. Los participantes conocerán recursos disponibles en la comunidad\, para abordar problemas relacionados con los videojuegos y las apuestas.. (2-hour program) \nInstructor: Laura Higuera \nFor a copy of your records or personal identifiable information\, please direct requests to: \nProfessional Development Team\, Attn: Program Assistantcabtraining2@childrenscabinet.org \nFor more information on your security and privacy\, please visit our full policy by scanning the QR in the participant policy notice below.
URL:https://www.childrenscabinet.org/event/el-impacto-de-los-juegos-que-jugamos/
LOCATION:NV
CATEGORIES:Parenting
ATTACH;FMTTYPE=image/jpeg:https://www.childrenscabinet.org/wp-content/uploads/2025/01/2d2937add13094f1c096ea489ee17ba8-QDrCDx.tmp_.jpg
END:VEVENT
BEGIN:VEVENT
DTSTART;TZID=America/Los_Angeles:20250328T090000
DTEND;TZID=America/Los_Angeles:20250328T170000
DTSTAMP:20260424T031345
CREATED:20250307T085823Z
LAST-MODIFIED:20250328T131136Z
UID:10003030-1743152400-1743181200@www.childrenscabinet.org
SUMMARY:Youth Mental Health First Aid (YMHFA) Training
DESCRIPTION:These classes are designed to teach caring adults how to help adolescents who are experiencing mental health\, addiction\, or are in crisis.\n\n\nThese classes are designed to teach parents\, mentors\, teachers\, coaches\, health and human services workers\, and other caring citizens how to help adolescents (age 12-18) who are experiencing mental health\, addiction\, or are in crisis. Anyone interested can sign up for a one-day training session. \nThe course introduces common mental health challenges for youth\, reviews typical adolescent development\, and teaches a 5-step action plan to help young people in both crisis and non-crisis situations. Topics covered include anxiety\, depression\, substance use\, disorders in which psychosis may occur\, disruptive behavior disorders (including AD/HD)\, and eating disorders. Each year\, thousands of people are trained to provide CPR first aid\, so we encourage everyone to be ready for a possible mental health crisis and connect those struggling with mental health with the help they all deserve. \nPrior to the instructor-led class\, all participants must complete course pre-work that can be accomplished online. If you are signed up for a course\, you will receive an email with links to the pre-work\, a link to the pre-test\, and how to access the course online. \nSpanish and group trainings are available upon request. Please contact Kimberly Hargrove for more information: KHargrove@childrenscabinet.org.
URL:https://www.childrenscabinet.org/event/youth-mental-health-first-aid-ymhfa-training-9/
LOCATION:Children’s Cabinet\, May Building\, 777 Sinclair Street\, Reno\, NV\, 89501\, United States
CATEGORIES:Community,Parenting
ATTACH;FMTTYPE=image/jpeg:https://www.childrenscabinet.org/wp-content/uploads/2025/01/7a609e7bc6d896ff6598f4e1ec4c24d1-QI8SkA.tmp_.jpg
END:VEVENT
END:VCALENDAR