BEGIN:VCALENDAR
VERSION:2.0
PRODID:-//Children&#039;s Cabinet - ECPv6.15.17//NONSGML v1.0//EN
CALSCALE:GREGORIAN
METHOD:PUBLISH
X-ORIGINAL-URL:https://www.childrenscabinet.org
X-WR-CALDESC:Events for Children&#039;s Cabinet
REFRESH-INTERVAL;VALUE=DURATION:PT1H
X-Robots-Tag:noindex
X-PUBLISHED-TTL:PT1H
BEGIN:VTIMEZONE
TZID:America/Los_Angeles
BEGIN:DAYLIGHT
TZOFFSETFROM:-0800
TZOFFSETTO:-0700
TZNAME:PDT
DTSTART:20240310T100000
END:DAYLIGHT
BEGIN:STANDARD
TZOFFSETFROM:-0700
TZOFFSETTO:-0800
TZNAME:PST
DTSTART:20241103T090000
END:STANDARD
BEGIN:DAYLIGHT
TZOFFSETFROM:-0800
TZOFFSETTO:-0700
TZNAME:PDT
DTSTART:20250309T100000
END:DAYLIGHT
BEGIN:STANDARD
TZOFFSETFROM:-0700
TZOFFSETTO:-0800
TZNAME:PST
DTSTART:20251102T090000
END:STANDARD
BEGIN:DAYLIGHT
TZOFFSETFROM:-0800
TZOFFSETTO:-0700
TZNAME:PDT
DTSTART:20260308T100000
END:DAYLIGHT
BEGIN:STANDARD
TZOFFSETFROM:-0700
TZOFFSETTO:-0800
TZNAME:PST
DTSTART:20261101T090000
END:STANDARD
END:VTIMEZONE
BEGIN:VEVENT
DTSTART;TZID=America/Los_Angeles:20251208T180000
DTEND;TZID=America/Los_Angeles:20251208T200000
DTSTAMP:20260422T074800
CREATED:20250923T171553Z
LAST-MODIFIED:20251208T184443Z
UID:10003321-1765216800-1765224000@www.childrenscabinet.org
SUMMARY:Positive Solutions For Families Session 2: Keeping it Positive!
DESCRIPTION:**REMINDER PLEASE CHECK YOUR EMAIL FOR ZOOM LINK**\n\n\nTHIS IS A LIVE ONLINE WEBINAR \nTotal Hours: 2.0 \nUnderstand how playful interactions and creating fun in everyday moments can be a powerful practice. Link building relationships\, using positive comments and encouragement\, and play to children’s behavior.Examine why children do what they do. Understand how to use positive language with children.( 2-hour program) \nInstructor: Cathy Mello \nFor a copy of your records or personal identifiable information\, please direct requests to: \nProfessional Development Team\, Attn: Program Assistant cabtraining2@childrenscabinet.org \nFor more information on your security and privacy\, please visit our full policy by scanning the QR in the participant policy notice below.
URL:https://www.childrenscabinet.org/event/positive-solutions-for-families-session-2-keeping-it-positive-4/
LOCATION:NV
CATEGORIES:Parenting
ATTACH;FMTTYPE=image/jpeg:https://www.childrenscabinet.org/wp-content/uploads/2025/09/d1a480d4d70a02427fc883f77f6d4fe6-34gzFL.tmp_.jpg
END:VEVENT
BEGIN:VEVENT
DTSTART;TZID=America/Los_Angeles:20251209T100000
DTEND;TZID=America/Los_Angeles:20251209T110000
DTSTAMP:20260422T074800
CREATED:20250920T170019Z
LAST-MODIFIED:20251208T184444Z
UID:10003287-1765274400-1765278000@www.childrenscabinet.org
SUMMARY:Cribs for Kids
DESCRIPTION:THIS IS AN IN-PERSON SESSION\n\n\nTHIS IS AN IN-PERSON SESSION \nTotal Hours: 1.0 \nNew Parents! Single Parents! Moms or Dads\, Grandparents! (gaining custody) \n \nA one-hour parenting/caregiver class on the importance of safe sleep practices to reduce the risk of Sudden Unexpected Infant Deaths (SUID) which include SIDS and other preventable deaths\, like suffocation and strangulation\, in bed. Participants will enhance their safe sleep education for the infant in their lives. (This is a 1.0-hour class) \nInstructor: Ivett Nunez \nFor a copy of your records or personal identifiable information\, please direct requests to: \nProfessional Development Team\, Attn: Program Assistant traininglv@childrenscabinet.org \nFor more information on your security and privacy\, please visit our full policy by scanning the QR in the participant policy notice below.
URL:https://www.childrenscabinet.org/event/safe-sleep/
LOCATION:5905 S Decatur Blvd\, 5905 South Decatur Boulevard\, Las Vegas\, NV\, 89118\, United States
CATEGORIES:Parenting
ATTACH;FMTTYPE=image/jpeg:https://www.childrenscabinet.org/wp-content/uploads/2025/10/64fdadc983b8ab939399a38df1578df2-B5Nku4.tmp_.jpg
END:VEVENT
BEGIN:VEVENT
DTSTART;TZID=America/Los_Angeles:20251209T170000
DTEND;TZID=America/Los_Angeles:20251209T190000
DTSTAMP:20260422T074800
CREATED:20250917T163043Z
LAST-MODIFIED:20251209T182935Z
UID:10003278-1765299600-1765306800@www.childrenscabinet.org
SUMMARY:Sharing Play-Based Learning with Families
DESCRIPTION:In-Person\n\n\nInstructor: Janna Mason \nNevada Registry Approved: 2.0 Hours \nCKA: Family & Community Relationships \nAs early childhood programs make the shift from teacher-directed programming to child-centered curriculum it can be challenging to help families understand that their children are still learning – even without dittos! Join the discussion and gain some new ideas for how to make learning visible in your program. \nTraining Objectives: \n1 . Participants will be able to explain the importance of play-based learning. \n2 . Participants will understand the importance of communicating child-centered instruction practices with families. \n3 . Participants will be able to identify strategies for making child learning visible in their program. \nEach professional development session offered by The Children’s Cabinet utilizes a knowledge check to ensure that our participants understand our training objectives and our instructors are providing a comprehensive learning experience. You can expect to receive a three question quiz or test at the end of each training. If you have questions or concerns\, or need additional information about this process\, feel free to contact the Professional Development Training Coordinator at 775-856-6200. \n \nFor a copy of your records or personal identifiable information\, please direct requests to: \nProfessional Development Team\, Attn: ProgramAssistant \ncabtraining2@childrenscabinet.org \nFor more information on your security and privacy\, please visit our full policy by scanning the QR in the participant policy notice below.
URL:https://www.childrenscabinet.org/event/sharing-play-based-learning-with-families-5/
LOCATION:Nevada Strong Start Child Care Services Center\, 961 Matley Lane Suite 110\, Reno\, NV\, 89502\, United States
CATEGORIES:Childcare Provider
ATTACH;FMTTYPE=image/jpeg:https://www.childrenscabinet.org/wp-content/uploads/2025/09/d07825f6cc672c0e00c9a390da77e8e0-oYsW3W.tmp_.jpg
END:VEVENT
BEGIN:VEVENT
DTSTART;TZID=America/Los_Angeles:20251210T103000
DTEND;TZID=America/Los_Angeles:20251210T120000
DTSTAMP:20260422T074800
CREATED:20250918T162910Z
LAST-MODIFIED:20251208T184444Z
UID:10003281-1765362600-1765368000@www.childrenscabinet.org
SUMMARY:Magic Moments with Books
DESCRIPTION:This is an in-person class at Family to Family\n\n\nThis is an in-person class \nTotal Hours: 1.5 \nIn this class\, we create an engaging environment where families and children will explore the magic of stories. We start with a captivating read-aloud\, using expressive voices and lively gestures to bring the characters and events to life. After the story\, attendees will have the opportunity to read more stories and complete educational activities connected with each book.  The goal is to make reading fun and foster a lifelong love of books.   \n \nInstructor: Ivett Nunez \n \nFor a copy of your records or personal identifiable information\, please direct requests to: \nProfessional Development Team\, Attn: Program Assistant \ntraininglv@childrenscabinet.org \n \nFor more information on your security and privacy\, please visit our full policy by scanning the QR in the participant policy notice below.
URL:https://www.childrenscabinet.org/event/magic-moments-with-books/
LOCATION:Family 2 Family Connection\, 3900 Cambridge Street\, #107\, Las Vegas\, NV\, 89119\, United States
CATEGORIES:Parenting
ATTACH;FMTTYPE=image/jpeg:https://www.childrenscabinet.org/wp-content/uploads/2025/06/3741adc8aa0f22a40aa756288fdc94b9-bMKlUx.tmp_.jpg
END:VEVENT
BEGIN:VEVENT
DTSTART;TZID=America/Los_Angeles:20251210T173000
DTEND;TZID=America/Los_Angeles:20251210T183000
DTSTAMP:20260422T074800
CREATED:20250920T210118Z
LAST-MODIFIED:20251210T162942Z
UID:10003304-1765387800-1765391400@www.childrenscabinet.org
SUMMARY:Out of School Time: Asking and Doing (Inquiry and Experiential Learning)
DESCRIPTION:***Please make sure to have a Zoom account prior to attending The Children’s Cabinet virtual trainings.*** (Handouts-Windows 10 or better)\n\n\nInstructor: Constance Tomaneng \nNevada Registry Approved: 1.0 Hour \nCKA: Environment & Curriculum \nThis session introduces staff and teacher to the concepts of science inquiry and experiential learning. Understanding the significance of these concepts help the teacher’s capitalize on the children’s interests. Both the science inquiry and the experiential learning promote better learning outcomes and provide exciting learning opportunities for acquisition of skills. \nTraining Objectives: \n1 .To understand and differentiate the concepts of science inquiry and experiential learning. \n2 .To practice the concepts of inquiry and experiential learning. \n3 .To understand how to apply science\, engineering and technology inquiry -based and experiential learning opportunities in a classroom. \nEach professional development session offered by The Children’s Cabinet utilizes a knowledge check to ensure that our participants understand our training objectives and our instructors are providing a comprehensive learning experience. You can expect to receive a three question quiz or test at the end of each training. If you have questions or concerns\, or need additional information about this process\, feel free to contact the Professional Development Training Coordinator at 702-825-8978 \n \nFor a copy of your records or personal identifiable information\, please direct requests to:  \nProfessional Development Team\, Attn: Program Assistant  cabtraining2@childrenscabinet.org  \nFor more information on your security and privacy\, please visit our full policy by scanning the QR in the participant policy notice below. 
URL:https://www.childrenscabinet.org/event/out-of-school-time-asking-and-doing-inquiry-and-experiential-learning-8/
LOCATION:NV
CATEGORIES:Childcare Provider
ATTACH;FMTTYPE=image/jpeg:https://www.childrenscabinet.org/wp-content/uploads/2025/09/37ec473d5516425058ff30cf22962232-UlCzfJ.tmp_.jpg
END:VEVENT
BEGIN:VEVENT
DTSTART;TZID=America/Los_Angeles:20251210T180000
DTEND;TZID=America/Los_Angeles:20251210T193000
DTSTAMP:20260422T074800
CREATED:20250923T171557Z
LAST-MODIFIED:20251208T184445Z
UID:10003322-1765389600-1765395000@www.childrenscabinet.org
SUMMARY:How Vroom Turns Challenges into Learning Moments!
DESCRIPTION:This is an in-person  class at  Nevada Strong Start Child Care Services Center.\n\n\nThis is an in-person class \nTotal Hours: 1.5 \nPicky eating\, saying “no\,” and meltdowns—what’s a parent to do? In this interactive session\, discover how to turn everyday challenges into brain-building moments with Vroom. Learn simple\, science-backed strategies to support your child’s development\, reduce behavior struggles\, and strengthen your bond—plus take home easy tip sheets with activities for kids ages 0–5.  (This is a 1.5 hour class) \nInstructor: Hannah West \nFor a copy of your records or personal identifiable information\, please direct requests to: \nProfessional Development Team\, Attn: Program Assistantcabtraining2@childrenscabinet.org \nFor more information on your security and privacy\, please visit our full policy by scanning the QR in the participant policy notice below.
URL:https://www.childrenscabinet.org/event/how-vroom-turns-challenges-into-learning-moments-3/
LOCATION:Nevada Strong Start Child Care Services Center\, 961 Matley Lane Suite 110\, Reno\, NV\, 89502\, United States
CATEGORIES:Parenting
ATTACH;FMTTYPE=image/jpeg:https://www.childrenscabinet.org/wp-content/uploads/2025/06/2d580c1efe83fa8c8e7336a022dd4604-muUTLV.tmp_.jpg
END:VEVENT
BEGIN:VEVENT
DTSTART;TZID=America/Los_Angeles:20251211T170000
DTEND;TZID=America/Los_Angeles:20251211T183000
DTSTAMP:20260422T074800
CREATED:20250917T163044Z
LAST-MODIFIED:20251211T161435Z
UID:10003279-1765472400-1765477800@www.childrenscabinet.org
SUMMARY:Enhancing & Practicing Executive Function Skills with School-Aged Children
DESCRIPTION:In-Person\n\n\nInstructor: Janna Mason \nNevada Registry Approved: 1.5 Hours \nCKA: Human Growth & Development \nParticipants will learn what executive function is and what it looks like in children. They will explore different strategies to supporting executive function growth and walk away with techniques to enhance these skills through activities and games. \nTraining Objectives: \n1 . By the end of this session\, learners will describe how executive function presents itself in school-aged children. \n2 . By the end of this session\, learners will recognize how to support executive function in their teaching. \n3 . By the end of this session\, learners will identify activities that increase executive function to implement into their classrooms. \nEach professional development session offered by The Children’s Cabinet utilizes a knowledge check to ensure that our participants understand our training objectives and our instructors are providing a comprehensive learning experience. You can expect to receive a three question quiz or test at the end of each training. If you have questions or concerns\, or need additional information about this process\, feel free to contact the Professional Development Training Coordinator at 775-856-6200. \n \nFor a copy of your records or personal identifiable information\, please direct requests to: \nProfessional Development Team\, Attn: ProgramAssistant \ncabtraining2@childrenscabinet.org \nFor more information on your security and privacy\, please visit our full policy by scanning the QR in the participant policy notice below.
URL:https://www.childrenscabinet.org/event/enhancing-practicing-executive-function-skills-with-school-aged-children-3/
LOCATION:Nevada Strong Start Child Care Services Center\, 961 Matley Lane Suite 110\, Reno\, NV\, 89502\, United States
CATEGORIES:Childcare Provider
ATTACH;FMTTYPE=image/jpeg:https://www.childrenscabinet.org/wp-content/uploads/2025/06/a7401c9faf7d86575d7ed7efa003de79-R0wW4G.tmp_.jpg
END:VEVENT
BEGIN:VEVENT
DTSTART;TZID=America/Los_Angeles:20251212T090000
DTEND;TZID=America/Los_Angeles:20251212T170000
DTSTAMP:20260422T074800
CREATED:20251120T094435Z
LAST-MODIFIED:20251212T124437Z
UID:10003329-1765530000-1765558800@www.childrenscabinet.org
SUMMARY:Youth Mental Health First Aid (YMHFA) Training
DESCRIPTION:These classes are designed to teach caring adults how to help adolescents who are experiencing mental health\, addiction\, or are in crisis.\n\n\nThese classes are designed to teach parents\, mentors\, teachers\, coaches\, health and human services workers\, and other caring citizens how to help adolescents (age 12-18) who are experiencing mental health\, addiction\, or are in crisis. Anyone interested can sign up for a one-day training session. \nThe course introduces common mental health challenges for youth\, reviews typical adolescent development\, and teaches a 5-step action plan to help young people in both crisis and non-crisis situations. Topics covered include anxiety\, depression\, substance use\, disorders in which psychosis may occur\, disruptive behavior disorders (including AD/HD)\, and eating disorders. Each year\, thousands of people are trained to provide CPR first aid\, so we encourage everyone to be ready for a possible mental health crisis and connect those struggling with mental health with the help they all deserve. \nPrior to the in-person instructor-led class\, all participants must complete course pre-work that can be accomplished online. If you are signed up for a course\, you will receive an email with links to the pre-work\, a link to the pre-test\, and how to access the course online. \nSpanish and group trainings are available upon request. If you need to request any accomodations please contact Kimberly Hargrove for more information: KHargrove@childrenscabinet.org.
URL:https://www.childrenscabinet.org/event/youth-mental-health-first-aid-ymhfa-training-24/
LOCATION:Children’s Cabinet\, May Building\, 777 Sinclair Street\, Reno\, NV\, 89501\, United States
CATEGORIES:Community,Parenting
ATTACH;FMTTYPE=image/jpeg:https://www.childrenscabinet.org/wp-content/uploads/2025/01/7a609e7bc6d896ff6598f4e1ec4c24d1-QI8SkA.tmp_.jpg
END:VEVENT
END:VCALENDAR