BEGIN:VCALENDAR
VERSION:2.0
PRODID:-//Children&#039;s Cabinet - ECPv6.15.17//NONSGML v1.0//EN
CALSCALE:GREGORIAN
METHOD:PUBLISH
X-ORIGINAL-URL:https://www.childrenscabinet.org
X-WR-CALDESC:Events for Children&#039;s Cabinet
REFRESH-INTERVAL;VALUE=DURATION:PT1H
X-Robots-Tag:noindex
X-PUBLISHED-TTL:PT1H
BEGIN:VTIMEZONE
TZID:America/Los_Angeles
BEGIN:DAYLIGHT
TZOFFSETFROM:-0800
TZOFFSETTO:-0700
TZNAME:PDT
DTSTART:20240310T100000
END:DAYLIGHT
BEGIN:STANDARD
TZOFFSETFROM:-0700
TZOFFSETTO:-0800
TZNAME:PST
DTSTART:20241103T090000
END:STANDARD
BEGIN:DAYLIGHT
TZOFFSETFROM:-0800
TZOFFSETTO:-0700
TZNAME:PDT
DTSTART:20250309T100000
END:DAYLIGHT
BEGIN:STANDARD
TZOFFSETFROM:-0700
TZOFFSETTO:-0800
TZNAME:PST
DTSTART:20251102T090000
END:STANDARD
BEGIN:DAYLIGHT
TZOFFSETFROM:-0800
TZOFFSETTO:-0700
TZNAME:PDT
DTSTART:20260308T100000
END:DAYLIGHT
BEGIN:STANDARD
TZOFFSETFROM:-0700
TZOFFSETTO:-0800
TZNAME:PST
DTSTART:20261101T090000
END:STANDARD
END:VTIMEZONE
BEGIN:VEVENT
DTSTART;TZID=America/Los_Angeles:20251216T180000
DTEND;TZID=America/Los_Angeles:20251216T190000
DTSTAMP:20260422T115242
CREATED:20251126T032947Z
LAST-MODIFIED:20251216T232947Z
UID:10003330-1765908000-1765911600@www.childrenscabinet.org
SUMMARY:CCPAC Policy Briefs: Pre-Release Review & Final Feedback
DESCRIPTION:**REMINDER PLEASE CHECK YOUR CONFIRMATION EMAIL FOR ZOOM LINK **\n\n\nThe Child Care Provider Action Committee and the Children’s Advocacy Alliance \ninvite you to a collaborative forum to discuss three priority topics raised by child \ncare providers during recent listening sessions. \n \nDisclaimer: This event is not for Nevada Registry credit. \n \nFor a copy of your records or personal identifiable information\, please direct requests to: \nProfessional Development Team\, Attn: Program Assistantcabtraining2@childrenscabinet.org \nFor more information on your security and privacy\, please visit our full policy by scanning the QR in the participant policy notice below. \nAfter registering you will receive a confirmation email containing information about joining the training.
URL:https://www.childrenscabinet.org/event/ccpac-policy-briefs-pre-release-review-final-feedback/
LOCATION:NV
CATEGORIES:Childcare Provider
ATTACH;FMTTYPE=image/jpeg:https://www.childrenscabinet.org/wp-content/uploads/2025/11/4d1cfd65580c8782100f0242b1ef212a-oCBYgr.tmp_.jpg
END:VEVENT
BEGIN:VEVENT
DTSTART;TZID=America/Los_Angeles:20251216T180000
DTEND;TZID=America/Los_Angeles:20251216T193000
DTSTAMP:20260422T115242
CREATED:20250920T210119Z
LAST-MODIFIED:20251216T232946Z
UID:10003305-1765908000-1765913400@www.childrenscabinet.org
SUMMARY:The Art of Empowering and Delegation
DESCRIPTION:**REMINDER PLEASE CHECK YOUR CONFIRMATION EMAIL FOR ZOOM LINK **\n\n\nInstructor: Janna Mason \nNevada Registry Approved: 1.5 Hours \nCKA: Leadership & Professional Development \nEmpowering staff and delegating tasks can be challenging skills for supervisors. In this training you will learn how to empower your employees and identify strategies it takes to properly delegate tasks for success. \nTraining Objectives: \n1 . By the end of this session\, learners will understand the importance of empowering their employees. \n2 . By the end of this session\, learners will Demonstrate ways to empower their employees. \n3 . By the end of this session\, learners will identify strategies to delegate tasks to their employees to provide learning and growth. \nEach professional development session offered by The Children’s Cabinet utilizes a knowledge check to ensure that our participants understand our training objectives and our instructors are providing a comprehensive learning experience. You can expect to receive a three question quiz or test at the end of each training. If you have questions or concerns\, or need additional information about this process\, feel free to contact the Professional Development Training Coordinator at 775-856-6200. \n \nFor a copy of your records or personal identifiable information\, please direct requests to: \nProfessional Development Team\, Attn: ProgramAssistant \ncabtraining2@childrenscabinet.org \nFor more information on your security and privacy\, please visit our full policy by scanning the QR in the participant policy notice below.
URL:https://www.childrenscabinet.org/event/the-art-of-empowering-and-delegation/
LOCATION:NV
CATEGORIES:Childcare Provider
ATTACH;FMTTYPE=image/jpeg:https://www.childrenscabinet.org/wp-content/uploads/2025/09/81ea19eda1551f287ce20a1d05460af8-xH2R9i.tmp_.jpg
END:VEVENT
BEGIN:VEVENT
DTSTART;TZID=America/Los_Angeles:20251217T180000
DTEND;TZID=America/Los_Angeles:20251217T200000
DTSTAMP:20260422T115242
CREATED:20250920T201447Z
LAST-MODIFIED:20251217T234435Z
UID:10003292-1765994400-1766001600@www.childrenscabinet.org
SUMMARY:Making Learning Visible: Displays as a Teaching Tool-CANCELLED
DESCRIPTION:In-Person\n\n\nInstructor: Sarah Carone \nNevada Registry Approved: 2.0 Hours \nCKA: Environment & Curriculum \nLearners will engage in discussions\, role play and hands-on activities around display in the early childhood classroom. Learners will leave with strategies and materials to use their classroom display as teaching tools. \nTraining Objectives: \n1 .By the end of this session\, learners will list three areas of the classroom where display can be used as a teaching tool. \n2 .By the end of this session\, learners will explain the difference between individualized artwork and product artwork. \n3 . By the end of this session\, learners will demonstrate their ability to engage children in conversations around the display. \nEach professional development session offered by The Children’s Cabinet utilizes a knowledge check to ensure that our participants understand our training objectives and our instructors are providing a comprehensive learning experience. You can expect to receive a three question quiz or test at the end of each training. If you have questions or concerns\, or need additional information about this process\, feel free to contact the Professional Development Training Coordinator at 775-856-0100 \nFor a copy of your records or personal identifiable information\, please direct requests to: \nProfessional Development Team\, Attn: Program Assistantcabtraining2@childrenscabinet.org \nFor more information on your security and privacy\, please visit our full policy by scanning the QR in the participant policy notice below.
URL:https://www.childrenscabinet.org/event/making-learning-visible-displays-as-a-teaching-tool/
LOCATION:Great Basin College\, 1500 College Parkway\, Elko\, NV\, 89801\, United States
CATEGORIES:Childcare Provider
ATTACH;FMTTYPE=image/jpeg:https://www.childrenscabinet.org/wp-content/uploads/2025/06/1f81c01906a48295d2b317281b988516-L7QoIe.tmp_.jpg
END:VEVENT
BEGIN:VEVENT
DTSTART;TZID=America/Los_Angeles:20251218T123000
DTEND;TZID=America/Los_Angeles:20251218T143000
DTSTAMP:20260422T115242
CREATED:20250903T194509Z
LAST-MODIFIED:20251216T232948Z
UID:10003245-1766061000-1766068200@www.childrenscabinet.org
SUMMARY:Strengthening Business Practices: Module 4- Recruiting & Retaining Staff
DESCRIPTION:**PARTICIPANTS MUST COMPLETE REGISTRATION IN THE LINK PROVIDED IN THE CONFIRMATION EMAIL**\n\n\nInstructor: Anthony Kharrat \nNevada Registry Approved: 2.0 Hours \nCKA: Management & Administration \nThe purpose of this training is to strengthen child care providers’ understanding of staff recruitment tools\, organizational staff support systems\, and elements necessary to support retention of talented staff. \nTraining Objectives: \n1 . Learn the importance of developing effective job descriptions and recruiting talented staff. \n2 . Discuss how to create comprehensive handbooks for parents and staff. \n3 . Recognizing the critical role that leaders play in the retention of talented staff. \nEach professional development session offered by The Children’s Cabinet utilizes a knowledge check to ensure that our participants understand our training objectives and our instructors are providing a comprehensive learning experience. You can expect to receive a three question quiz or test at the end of each training. If you have questions or concerns\, or need additional information about this process\, feel free to contact the Professional Development Training Coordinator at 702-245-8555. \n \nFor a copy of your records or personal identifiable information\, please direct requests to: \nProfessional Development Team\, Attn: Program Assistant  \ntraininglv@childrenscabinet.org \nFor more information on your security and privacy\, please visit our full policy by scanning the QR in the participant policy notice below.
URL:https://www.childrenscabinet.org/event/strengthening-business-practices-module-4-recruiting-retaining-staff-17/
LOCATION:NV
CATEGORIES:Childcare Provider
ATTACH;FMTTYPE=image/jpeg:https://www.childrenscabinet.org/wp-content/uploads/2025/01/4046973723b1f0d777e7d2391b39c561-ZfK2LJ.tmp_.jpg
END:VEVENT
BEGIN:VEVENT
DTSTART;TZID=America/Los_Angeles:20251218T130000
DTEND;TZID=America/Los_Angeles:20251218T140000
DTSTAMP:20260422T115242
CREATED:20251126T032949Z
LAST-MODIFIED:20251216T232948Z
UID:10003331-1766062800-1766066400@www.childrenscabinet.org
SUMMARY:CCPAC Policy Briefs: Pre-Release Review & Final Feedback
DESCRIPTION:**REMINDER PLEASE CHECK YOUR CONFIRMATION EMAIL FOR ZOOM LINK **\n\n\nThe Child Care Provider Action Committee and the Children’s Advocacy Alliance \ninvite you to a collaborative forum to discuss three priority topics raised by child \ncare providers during recent listening sessions. \n \nDisclaimer: This event is not for Nevada Registry credit. \n \nFor a copy of your records or personal identifiable information\, please direct requests to: \nProfessional Development Team\, Attn: Program Assistantcabtraining2@childrenscabinet.org \nFor more information on your security and privacy\, please visit our full policy by scanning the QR in the participant policy notice below. \nAfter registering you will receive a confirmation email containing information about joining the training.
URL:https://www.childrenscabinet.org/event/ccpac-policy-briefs-pre-release-review-final-feedback-2/
LOCATION:NV
CATEGORIES:Childcare Provider
ATTACH;FMTTYPE=image/jpeg:https://www.childrenscabinet.org/wp-content/uploads/2025/11/4d1cfd65580c8782100f0242b1ef212a-oCBYgr.tmp_.jpg
END:VEVENT
BEGIN:VEVENT
DTSTART;TZID=America/Los_Angeles:20251218T180000
DTEND;TZID=America/Los_Angeles:20251218T200000
DTSTAMP:20260422T115242
CREATED:20250908T204510Z
LAST-MODIFIED:20251216T232949Z
UID:10003249-1766080800-1766088000@www.childrenscabinet.org
SUMMARY:QRIS: E-3 Activities
DESCRIPTION:**PARTICIPANTS MUST COMPLETE REGISTRATION IN THE LINK PROVIDED IN THE CONFIRMATION EMAIL**\n\n\nInstructor: Devyn Marshall \nNevada Registry Approved Hours: 2.0 \n \nCore Knowledge Area: Environment & Curriculum \n \nDescription: This training is geared to help guide preschool/pre-K teachers (ages 3-5) on what is expected of them during the Activities portion of the ERS Assessment. This class will offer in-depth information on how to achieve this goal by applying it into the daily classroom schedule and routine \n \nTraining Objectives: \n\nParticipants will learn what is expected of teaching staff during Free Play time\nParticipants will learn what materials are needed to be accessible to children per QRIS for this age group\nParticipants will have the opportunity to ask questions regarding all Activities Indicators with a QRIS Coach.\n\nEach professional development session offered by The Children’s Cabinet utilizes a knowledge check to ensure that our participants understand our training objectives and our instructors are providing a comprehensive learning experience. You can expect to receive a three question quiz or test at the end of each training. If you have questions or concerns\, or need additional information about this process\, feel free to contact the Professional Development Training Coordinator at 702-245-8555 \n \nFor a copy of your records or personal identifiable information\, please direct requests to: \nProfessional Development Team\, Attn: Program Assistant  \ntraininglv@childrenscabinet.org \n \nFor more information on your security and privacy\, please visit our full policy by scanning the QR in the participant policy notice below.
URL:https://www.childrenscabinet.org/event/qris-e-3-activities-13/
LOCATION:NV
CATEGORIES:Childcare Provider
ATTACH;FMTTYPE=image/jpeg:https://www.childrenscabinet.org/wp-content/uploads/2024/10/ae4acb514454990649abe4ccdfa74789-vG7gkF.tmp_.jpg
END:VEVENT
END:VCALENDAR