BEGIN:VCALENDAR
VERSION:2.0
PRODID:-//Children&#039;s Cabinet - ECPv6.15.17//NONSGML v1.0//EN
CALSCALE:GREGORIAN
METHOD:PUBLISH
X-ORIGINAL-URL:https://www.childrenscabinet.org
X-WR-CALDESC:Events for Children&#039;s Cabinet
REFRESH-INTERVAL;VALUE=DURATION:PT1H
X-Robots-Tag:noindex
X-PUBLISHED-TTL:PT1H
BEGIN:VTIMEZONE
TZID:America/Los_Angeles
BEGIN:DAYLIGHT
TZOFFSETFROM:-0800
TZOFFSETTO:-0700
TZNAME:PDT
DTSTART:20250309T100000
END:DAYLIGHT
BEGIN:STANDARD
TZOFFSETFROM:-0700
TZOFFSETTO:-0800
TZNAME:PST
DTSTART:20251102T090000
END:STANDARD
BEGIN:DAYLIGHT
TZOFFSETFROM:-0800
TZOFFSETTO:-0700
TZNAME:PDT
DTSTART:20260308T100000
END:DAYLIGHT
BEGIN:STANDARD
TZOFFSETFROM:-0700
TZOFFSETTO:-0800
TZNAME:PST
DTSTART:20261101T090000
END:STANDARD
BEGIN:DAYLIGHT
TZOFFSETFROM:-0800
TZOFFSETTO:-0700
TZNAME:PDT
DTSTART:20270314T100000
END:DAYLIGHT
BEGIN:STANDARD
TZOFFSETFROM:-0700
TZOFFSETTO:-0800
TZNAME:PST
DTSTART:20271107T090000
END:STANDARD
END:VTIMEZONE
BEGIN:VEVENT
DTSTART;TZID=America/Los_Angeles:20260112T090000
DTEND;TZID=America/Los_Angeles:20260112T110000
DTSTAMP:20260419T201331
CREATED:20251216T093006Z
LAST-MODIFIED:20260112T161448Z
UID:10003400-1768208400-1768215600@www.childrenscabinet.org
SUMMARY:Emotion Expedition: Navigating the Jungles of Tantrums
DESCRIPTION:In-Person\n\n\nInstructor: Janna Mason \nNevada Registry Approved: 2.0 Hours \nCKA: Positive Interactions & Guidance \nMany emotions arise when temper tantrums take hold. In this training\, we will embark on an expedition to navigate through a jungle of different territories related to handling temper tantrums. We will learn practical strategies and navigate reactions to find the calm again. \nTraining Objectives: \n1 . By the end of this session\, learners will identify key signs\, triggers and developmental factors associated with temper tantrums in young children. \n2 . By the end of this session\, learners will implement and practice effective strategies for managing temper tantrums. \n3 . By the end of this session\, learners will describe the impact of teacher reactions on tantrums and adapt strategies to respond effectively. \nEach professional development session offered by The Children’s Cabinet utilizes a knowledge check to ensure that our participants understand our training objectives and our instructors are providing a comprehensive learning experience. You can expect to receive a three question quiz or test at the end of each training. If you have questions or concerns\, or need additional information about this process\, feel free to contact the Professional Development Training Coordinator at 775-856-6200. \n \nFor a copy of your records or personal identifiable information\, please direct requests to: \nProfessional Development Team\, Attn: ProgramAssistant \ncabtraining2@childrenscabinet.org \nFor more information on your security and privacy\, please visit our full policy by scanning the QR in the participant policy notice below.
URL:https://www.childrenscabinet.org/event/emotion-expedition-navigating-the-jungles-of-tantrums-3/
LOCATION:Dream Big Daycare and Learning Center\, 5880 Klondike Drive\, Sun Valley\, NV\, 89433\, United States
CATEGORIES:Childcare Provider
ATTACH;FMTTYPE=image/jpeg:https://www.childrenscabinet.org/wp-content/uploads/2025/09/83fdaa89ad426903db99dd9e1e06e92b-G1feYF.tmp_.jpg
END:VEVENT
BEGIN:VEVENT
DTSTART;TZID=America/Los_Angeles:20260112T170000
DTEND;TZID=America/Los_Angeles:20260112T190000
DTSTAMP:20260419T201331
CREATED:20251212T084448Z
LAST-MODIFIED:20260112T085959Z
UID:10003332-1768237200-1768244400@www.childrenscabinet.org
SUMMARY:The Growing Brain Unit 4: Cognition and Executive Function
DESCRIPTION:***Please make sure to have a Zoom account prior to attending The Children’s Cabinet virtual trainings.***\n\n\nInstructor: Constance Tomaneng \nNevada Registry Approved: 2.0 Hours \nCKA: Human Growth and Development \nExecutive functions are brain-based skills that enable children to manage their thoughts\, behaviors\, and emotions in order to attain their goals. In this session\, we will look at what these skills are\, why they are important\, and how early childhood educators may actively encourage their development. \n \nTraining Objectives: \n1. Learners will be able to understand the importance of how the brain develops focusing on cognitive and executive function development unfolds. \n2. Learn ways to support these early years of cognitive and executive functions development. \n3. Learners will have more confidence in caring for children and supporting the overall importance of health development in the cognitive and executive functions of the brain.
URL:https://www.childrenscabinet.org/event/the-growing-brain-unit-4-cognition-and-executive-function/
LOCATION:NV
CATEGORIES:Childcare Provider
ATTACH;FMTTYPE=image/jpeg:https://www.childrenscabinet.org/wp-content/uploads/2023/09/df643d5c249df9cceafda3b1b76cd709-8QajvH.tmp_.jpg
END:VEVENT
BEGIN:VEVENT
DTSTART;TZID=America/Los_Angeles:20260112T180000
DTEND;TZID=America/Los_Angeles:20260112T200000
DTSTAMP:20260419T201331
CREATED:20251212T162959Z
LAST-MODIFIED:20260113T051442Z
UID:10003344-1768240800-1768248000@www.childrenscabinet.org
SUMMARY:Promoting Language and Literacy
DESCRIPTION:**REMINDER PLEASE CHECK YOUR EMAIL FOR ZOOM LINK**\n\n\nTHIS IS A LIVE ONLINE WEBINAR \nTotal Hours: 2.0 \nParents will learn how top promote their child’s vocabulary growth through conversation. read to their children\, and understand the basic sentence structure. Recognize letters and their sounds and the ability to identify print in everyday life. Engage in interactive storytelling.Foster phonological awareness through rhyming and sound play.Encourage early writing skills through drawing and scribbling. ( 2-hour program) \nInstructor: Cathy Mello \nFor a copy of your records or personal identifiable information\, please direct requests to: \nProfessional Development Team\, Attn: Program Assistant cabtraining2@childrenscabinet.org \nFor more information on your security and privacy\, please visit our full policy by scanning the QR in the participant policy notice below.
URL:https://www.childrenscabinet.org/event/promoting-language-and-literacy/
LOCATION:NV
CATEGORIES:Parenting
ATTACH;FMTTYPE=image/jpeg:https://www.childrenscabinet.org/wp-content/uploads/2025/09/202a5d4158d2f6b6be49450ebfba045b-Rhdy25.tmp_.jpg
END:VEVENT
BEGIN:VEVENT
DTSTART;TZID=America/Los_Angeles:20260113T180000
DTEND;TZID=America/Los_Angeles:20260113T200000
DTSTAMP:20260419T201331
CREATED:20251212T163000Z
LAST-MODIFIED:20260113T194454Z
UID:10003345-1768327200-1768334400@www.childrenscabinet.org
SUMMARY:Active Parenting First Five Years: Preventing Problems from Escalating
DESCRIPTION:This is an in-person  class at The Children’s Cabinet.\n\n\nThis is an in-person class \nTotal Hours: 2.0 \nIn this class\, parents/caregivers will start to understand basic brain development in early childhood. They will learn how to identify ways of preventing accidents and problems. They will also learn the difference between discipline and punishment and understand the importance of routines and expressing affection to children.​ (2-hour class.) \nInstructor: Thelma Aviles \nFor a copy of your records or personal identifiable information\, please direct requests to: \nProfessional Development Team\, Attn: Program Assistant cabtraining2@childrenscabinet.org \nFor more information on your security and privacy\, please visit our full policy by scanning the QR in the participant policy notice below.
URL:https://www.childrenscabinet.org/event/active-parenting-first-five-years-preventing-problems-from-escalating-12/
LOCATION:The Children’s Cabinet\, 5905 South Decatur Blvd.\, Suite #13\, Las Vegas\, NV\, 89118\, United States
CATEGORIES:Parenting
ATTACH;FMTTYPE=image/jpeg:https://www.childrenscabinet.org/wp-content/uploads/2025/12/936ace33c41402b4e740a6672377d2be-IqBL4N.tmp_.jpg
END:VEVENT
BEGIN:VEVENT
DTSTART;TZID=America/Los_Angeles:20260115T133000
DTEND;TZID=America/Los_Angeles:20260115T153000
DTSTAMP:20260419T201331
CREATED:20251212T084449Z
LAST-MODIFIED:20260115T085953Z
UID:10003333-1768483800-1768491000@www.childrenscabinet.org
SUMMARY:Strengthening Business Practices 1: Budgets\, Projections\, and Planning
DESCRIPTION:***Please make sure to have a Zoom account prior to attending The Children’s Cabinet virtual trainings.***\n\n\nNevada Registry Approved: 2 hours \nInstructor: Anthony Kharrat  \nCKA: Management & Administration \n \nLearning Event Summary: \nThe purpose of this training is to learn the value of developing a budget and how to use it for decision-making throughout the year. It will go over the understandings of how to project business costs\, generate additional income and plan strategically for the future. \n \nLearning Outcomes: \n1 . Learners will learn the value of developing a budget and how to use it for decision-making throughout the year. \n2 . Learners will discuss the importance of creating systems for sustainability within your business. \n3 . Learners will understand how to project business costs\, generate additional income an plan strategically for the future. \n \nEach professional development session offered by The Children’s Cabinet utilizes a knowledge check to ensure that our participants understand our training objectives and our instructors are providing a comprehensive learning experience. You can expect to receive a three question quiz or test at the end of each training. If you have questions or concerns\, or need additional information about this process\, feel free to contact the Professional Development Training Coordinator at 702-245-8555. \n \nFor a copy of your records or personal identifiable information\, please direct requests to: \nProfessional Development Team\, Attn: Program Assistant \ntraininglv@childrenscabinet.org \nFor more information on your security and privacy\, please visit our full policy by scanning the QR in the participant policy notice below.
URL:https://www.childrenscabinet.org/event/strengthening-business-practices-1-budgets-projections-and-planning-4/
LOCATION:NV
CATEGORIES:Childcare Provider
ATTACH;FMTTYPE=image/jpeg:https://www.childrenscabinet.org/wp-content/uploads/2025/12/42ac963c471fe1b69c4b2b9f6b13ab8a-0TbL3K.tmp_.jpg
END:VEVENT
BEGIN:VEVENT
DTSTART;TZID=America/Los_Angeles:20260115T173000
DTEND;TZID=America/Los_Angeles:20260115T190000
DTSTAMP:20260419T201331
CREATED:20251216T093007Z
LAST-MODIFIED:20260116T005941Z
UID:10003401-1768498200-1768503600@www.childrenscabinet.org
SUMMARY:Vroom Brain Builder Series: Brain Building with Toddlers
DESCRIPTION:In Person\n\n\nInstructor: Hannah West \nNevada Registry Approved: 1.5 Hours \nCKA: Human Growth & Development \nParticipants will reinforce their knowledge of early brain development during the toddler years while developing a deeper understanding of how to utilize Vroom’s content to strengthen their brain building strategies during this crucial developmental time. \nTraining Objectives: \n1 . By the end of this session\, learners will restate an example of a milestone that takes place in the toddler years. \n2 . By the end of this session\, learners will list a tip that could be applied in their classroom to promote brain development. \n3 . By the end of this session\, learners will support their understanding that any moment can be a brain building moment. \n \nEach professional development session offered by The Children’s Cabinet utilizes a knowledge check to ensure that our participants understand our training objectives and our instructors are providing a comprehensive learning experience. You can expect to receive a three question quiz or test at the end of each training. If you have questions or concerns\, or need additional information about this process\, feel free to contact the Professional Development Training Coordinator at 775-856-6200. \n \nFor a copy of your records or personal identifiable information\, please direct requests to: \nProfessional Development Team\, Attn: Program Assistantcabtraining2@childrenscabinet.org \nFor more information on your security and privacy\, please visit our full policy by scanning the QR in the participant policy notice below.
URL:https://www.childrenscabinet.org/event/vroom-brain-builder-series-brain-building-with-toddlers-3/
LOCATION:Nevada Strong Start Child Care Services Center\, 961 Matley Lane Suite 110\, Reno\, NV\, 89502\, United States
CATEGORIES:Childcare Provider
ATTACH;FMTTYPE=image/jpeg:https://www.childrenscabinet.org/wp-content/uploads/2024/10/2e3c1e5201278c0cd3afa1196777cffd-1eudvL.tmp_.jpg
END:VEVENT
BEGIN:VEVENT
DTSTART;TZID=America/Los_Angeles:20260116T090000
DTEND;TZID=America/Los_Angeles:20260116T110000
DTSTAMP:20260419T201331
CREATED:20251216T093007Z
LAST-MODIFIED:20260116T005942Z
UID:10003402-1768554000-1768561200@www.childrenscabinet.org
SUMMARY:Increasing Language and Literacy Practices in the Classroom-CANCELLED
DESCRIPTION:In Person\n\n\nInstructor: Janna Rightmire \nNevada Registry Approved:  2.0 Hours \nCKA: Environment & Curriculum \nParticipants will learn strategies to engage children in communication. Participants will learn language and literacy activities and strategies to increase communication skills with children. Strategies will also be shared around using books to increase language development. \nTraining Objectives: \n1 . Participants will practice expansion with a partner and create a list of words to use in the classroom for expansion. \n2 . Participants will create a list of questions to use in centers and during large group to encourage children to communicate. \n3 . Participants will use ideas gained in training to design a lesson around a book that will increase language in the classroom. \nEach professional development session offered by The Children’s Cabinet utilizes a knowledge check to ensure that our participants understand our training objectives and our instructors are providing a comprehensive learning experience. You can expect to receive a three question quiz or test at the end of each training. If you have questions or concerns\, or need additional information about this process\, feel free to contact the Professional Development Training Coordinator at 775-856-6200. \n \nFor a copy of your records or personal identifiable information\, please direct requests to: \nProfessional Development Team\, Attn: Program Assistantcabtraining2@childrenscabinet.org \nFor more information on your security and privacy\, please visit our full policy by scanning the QR in the participant policy notice below.
URL:https://www.childrenscabinet.org/event/increasing-language-and-literacy-practices-in-the-classroom-4/
LOCATION:Reno-Sparks Indian Headstart\, 34 Reservation Road\, #A\, Reno\, NV\, 89502\, United States
CATEGORIES:Childcare Provider
ATTACH;FMTTYPE=image/jpeg:https://www.childrenscabinet.org/wp-content/uploads/2024/06/f250787a0b4db3fd8f8c7464656672dc-ZRjBbU.tmp_.jpg
END:VEVENT
END:VCALENDAR