BEGIN:VCALENDAR
VERSION:2.0
PRODID:-//Children&#039;s Cabinet - ECPv6.15.17//NONSGML v1.0//EN
CALSCALE:GREGORIAN
METHOD:PUBLISH
X-ORIGINAL-URL:https://www.childrenscabinet.org
X-WR-CALDESC:Events for Children&#039;s Cabinet
REFRESH-INTERVAL;VALUE=DURATION:PT1H
X-Robots-Tag:noindex
X-PUBLISHED-TTL:PT1H
BEGIN:VTIMEZONE
TZID:America/Los_Angeles
BEGIN:DAYLIGHT
TZOFFSETFROM:-0800
TZOFFSETTO:-0700
TZNAME:PDT
DTSTART:20250309T100000
END:DAYLIGHT
BEGIN:STANDARD
TZOFFSETFROM:-0700
TZOFFSETTO:-0800
TZNAME:PST
DTSTART:20251102T090000
END:STANDARD
BEGIN:DAYLIGHT
TZOFFSETFROM:-0800
TZOFFSETTO:-0700
TZNAME:PDT
DTSTART:20260308T100000
END:DAYLIGHT
BEGIN:STANDARD
TZOFFSETFROM:-0700
TZOFFSETTO:-0800
TZNAME:PST
DTSTART:20261101T090000
END:STANDARD
BEGIN:DAYLIGHT
TZOFFSETFROM:-0800
TZOFFSETTO:-0700
TZNAME:PDT
DTSTART:20270314T100000
END:DAYLIGHT
BEGIN:STANDARD
TZOFFSETFROM:-0700
TZOFFSETTO:-0800
TZNAME:PST
DTSTART:20271107T090000
END:STANDARD
END:VTIMEZONE
BEGIN:VEVENT
DTSTART;TZID=America/Los_Angeles:20260425T090000
DTEND;TZID=America/Los_Angeles:20260425T120000
DTSTAMP:20260420T052350
CREATED:20260312T051455Z
LAST-MODIFIED:20260420T035958Z
UID:10003473-1777107600-1777118400@www.childrenscabinet.org
SUMMARY:Child Development/ Guidance and Discipline
DESCRIPTION:3 hrs. In-person training\n\n\nNevada Registry Approved: 3.0 hours \nCKA: Human Growth and Development \nInstructor: Constance Tomaneng \n \nLearning Summary: Participants will be learning about developmental milestones for children ages 0 to 8 years old. We will also be discussing how incorporate age appropriate materials to help the developmental ranges that you may see within your classroom. \n \nLearning Outcomes: \n1 . Learners will Identify What Child development\, Guidance\, and Discipline means? \n2 . Learners will Discuss how and why the basic skills of implementing Child Development\, Guidance\, and Discipline within your class \n3 . Learners will Learn how to apply Child Development\, Guidance\, and Discipline strategies within the curriculum \nEach professional development session offered by The Children’s Cabinet utilizes a knowledge check to ensure that our participants understand our training objectives and our instructors are providing a comprehensive learning experience. You can expect to receive a three-question quiz or test at the end of each training. If you have questions or concerns\, or need additional information about this process\, feel free to contact the Professional Development Training Coordinator at 702-245-8555. \n \nFor a copy of your records or personal identifiable information\, please direct requests to: \nProfessional Development Team\, Attn: Program Assistanttraininglv@childrenscabinet.org \n \nFor more information on your security and privacy\, please visit our full policy by scanning the QR in the participant policy notice below.
URL:https://www.childrenscabinet.org/event/child-development-guidance-and-discipline-8/
LOCATION:The Children’s Cabinet – Las Vegas\, 5905 S. Decatur Blvd. Ste. 13\, Las Vegas\, NV\, 89118\, United States
CATEGORIES:Childcare Provider
ATTACH;FMTTYPE=image/jpeg:https://www.childrenscabinet.org/wp-content/uploads/2025/03/2a268c4f08061e13aeb6ff5fcc88ae0a-FWBJXJ.tmp_.jpg
END:VEVENT
BEGIN:VEVENT
DTSTART;TZID=America/Los_Angeles:20260425T123000
DTEND;TZID=America/Los_Angeles:20260425T143000
DTSTAMP:20260420T052350
CREATED:20260312T051456Z
LAST-MODIFIED:20260420T040003Z
UID:10003474-1777120200-1777127400@www.childrenscabinet.org
SUMMARY:Can You Hear Me Now? Building Positive Communication with Families
DESCRIPTION:2 hrs. in person training\n\n\nNevada Registry Approved: 2.0 hours \nCKA: Family & Community Relationships \nInstructor: Constance Tomaneng \n \nLearning Summary: Let’s explore some methods and techniques to help us communicate better with the families in our care. We focus on communication that is honest\, sensitive\, empathic\, and culturally appropriate. We discuss the informal daily communication to build positive relationships as well as formal meetings to discuss concerns about development. \nLearning Outcomes: \n1 . Learners will identify ways to maintain positive and appropriate communication with families. \n2 . Learners will describe methods of communication to engage all families sensitively and in a culturally appropriate way. \n3 . Learners will use strategies to incorporate into their classrooms to help improve communication. \n \nEach professional development session offered by The Children’s Cabinet utilizes a knowledge check to ensure that our participants understand our training objectives and our instructors are providing a comprehensive learning experience. You can expect to receive a three-question quiz or test at the end of each training. If you have questions or concerns\, or need additional information about this process\, feel free to contact the Professional Development Training Coordinator at 702-245-8555. \n \nFor a copy of your records or personal identifiable information\, please direct requests to: \nProfessional Development Team\, Attn: Program Assistanttraininglv@childrenscabinet.org \n \nFor more information on your security and privacy\, please visit our full policy by scanning the QR in the participant policy notice below.
URL:https://www.childrenscabinet.org/event/can-you-hear-me-now-building-positive-communication-with-families-2/
LOCATION:The Children’s Cabinet – Las Vegas\, 5905 S. Decatur Blvd. Ste. 13\, Las Vegas\, NV\, 89118\, United States
CATEGORIES:Childcare Provider
ATTACH;FMTTYPE=image/jpeg:https://www.childrenscabinet.org/wp-content/uploads/2025/03/2a268c4f08061e13aeb6ff5fcc88ae0a-FWBJXJ.tmp_.jpg
END:VEVENT
BEGIN:VEVENT
DTSTART;TZID=America/Los_Angeles:20260502T113000
DTEND;TZID=America/Los_Angeles:20260502T133000
DTSTAMP:20260420T052350
CREATED:20260312T051459Z
LAST-MODIFIED:20260420T040004Z
UID:10003476-1777721400-1777728600@www.childrenscabinet.org
SUMMARY:Reducing the Risk of Sudden Infant Death Syndrome
DESCRIPTION:This is an in-person training.\n\n\nInstructor: Constance Tomaneng \nNevada Registry Approved: 2.0 hours \nCKA: Health\, Nutrition & Safety \nThe session will discuss the importance of back to sleep for infants\, understanding SIDS\, learning about safe sleep environments\, and reviewing myths and truths about SIDS. \nTraining Objectives: \n1 . Participants will be able to identify safe sleep measures by the end of class. \n2 . Participants will identify at least 5 ways to lower the risk of SIDS by the end of class. \n3 .Participants will know procedures in the event of an infant death while in their care by the end of class. \nEach professional development session offered by The Children’s Cabinet utilizes a knowledge check to ensure that our participants understand our training objectives and our instructors are providing a comprehensive learning experience. You can expect to receive a three question quiz or test at the end of each training. If you have questions or concerns\, or need additional information about this process\, feel free to contact the Professional Development Training Coordinator at 702-245-8555
URL:https://www.childrenscabinet.org/event/reducing-the-risk-of-sudden-infant-death-syndrome-6/
LOCATION:The Children’s Cabinet – Las Vegas\, 5905 S. Decatur Blvd. Ste. 13\, Las Vegas\, NV\, 89118\, United States
CATEGORIES:Childcare Provider
ATTACH;FMTTYPE=image/jpeg:https://www.childrenscabinet.org/wp-content/uploads/2023/06/83f9963d5bcbb27ec08914a062228d06-5WiGsA.tmp_.jpg
END:VEVENT
END:VCALENDAR